BEGIN:VCALENDAR
PRODID:NingEventWidget-v1
VERSION:2.0
METHOD:PUBLISH
BEGIN:VTIMEZONE
TZID:Europe/Paris
X-LIC-LOCATION:Europe/Paris
BEGIN:DAYLIGHT
TZOFFSETFROM:+0100
TZOFFSETTO:+0200
TZNAME:CEST
DTSTART:19700329T020000
RRULE:FREQ=YEARLY;BYMONTH=3;BYDAY=-1SU
END:DAYLIGHT
BEGIN:STANDARD
TZOFFSETFROM:+0200
TZOFFSETTO:+0100
TZNAME:CET
DTSTART:19701025T030000
RRULE:FREQ=YEARLY;BYMONTH=10;BYDAY=-1SU
END:STANDARD
END:VTIMEZONE
BEGIN:VEVENT
UID:6339722:Event:115720
DTSTAMP:20260423T182146Z
SUMMARY:Le 28 Avril : DorioÃ¹ Digor e Skol Bruz / Portes Ouvertes Ã  l
 'Ã©cole Jacques PrÃ©vert de Bruz
DESCRIPTION:La filiÃ¨re bilingue Breton - FranÃ§ais de l'Ã©cole Matern
 elle Jacques PrÃ©vert Ã  Bruz vous propose des portes ouvertes le same
 di 28 avril 2011 de 9h30 Ã  12h00.  Pour l'inscription en classe bilin
 gue, il n'est pas nÃ©cessaire d'habiter le secteur de l'Ã©cole. Les en
 fants de toutes les communes peuvent alors Ãªtre accueillis dans la fi
 liÃ¨re bilingue.  Lors de cette matinÃ©e, les enseignants bilingues ai
 nsi que l'association de parents d'Ã©lÃ¨ves Div Yezh Bruz seront prÃ©s
 ents pour rÃ©pondre Ã  vos questions sur l'enseignement bilingue publi
 c Breton - FranÃ§ais.  Cette filiÃ¨re est une rÃ©elle opportunitÃ© pou
 r votre enfant !  Vous pouvez vous renseigner dÃ¨s maintenant sur le s
 ite internet de Div Yezh Bruz : http://divyezh.bruz.free.fr  Des Â« vi
 sites d'Ã©cole Â» sont Ã©galement organisÃ©es : - le mardi 24 avril 20
 12 de 17h00 Ã  18h30. - le Jeudi 07 juin 2012 de 17h00 Ã  18h30.  N'hÃ
 ©sitez pas Ã  diffuser l'information auprÃ¨s de votre entourage.\n\nPo
 ur en savoir plus, rendez-vous sur http://www.breizhbook.com/events/le
 -28-avril-dorio-digor-e-skol-bruz-portes-ouvertes-l-cole
DTSTART;TZID=Europe/Paris:20120428T093000
DTEND;TZID=Europe/Paris:20120428T120000
CATEGORIES:portes, ouvertes
LOCATION:Ecole Jacques PrÃ©vert Bruz
WEBSITE:http://divyezh.bruz.free.fr
URL:http://divyezh.bruz.free.fr
CONTACT:0661732892
ORGANIZER;CN="Div Yezh Bruz":http://www.breizhbook.com/profile/DivYezh
 Bruz
ATTACH;FMTTYPE="image/jpeg":http://storage.ning.com/topology/rest/1.0/
 file/get/3097081431?profile=original
ATTENDEE;ROLE=REQ-PARTICIPANT;PARTSTAT=ACCEPTED;RSVP=TRUE;CN="Div Yezh
  Bruz":http://www.breizhbook.com/profile/DivYezhBruz
END:VEVENT
END:VCALENDAR
