BEGIN:VCALENDAR
PRODID:NingEventWidget-v1
VERSION:2.0
METHOD:PUBLISH
BEGIN:VTIMEZONE
TZID:Europe/Paris
X-LIC-LOCATION:Europe/Paris
BEGIN:DAYLIGHT
TZOFFSETFROM:+0100
TZOFFSETTO:+0200
TZNAME:CEST
DTSTART:19700329T020000
RRULE:FREQ=YEARLY;BYMONTH=3;BYDAY=-1SU
END:DAYLIGHT
BEGIN:STANDARD
TZOFFSETFROM:+0200
TZOFFSETTO:+0100
TZNAME:CET
DTSTART:19701025T030000
RRULE:FREQ=YEARLY;BYMONTH=10;BYDAY=-1SU
END:STANDARD
END:VTIMEZONE
BEGIN:VEVENT
UID:6339722:Event:152932
DTSTAMP:20260423T175515Z
SUMMARY:LA POPINETTE - RANDONNEE NOCTURNE
DESCRIPTION:Un nouvel évènement est prévu le samedi 16 mars 2013 af
 in de récolter des fonds pour le fonctionnement de l'école:\nAndon (
 comité de soutien de l'Ecole Diwan), organise une rando animée de nu
 it à Questembert, sur le sentier des popinettes (départ à partir de
  18h30, arrivée jusqu'à 0h30).\n Contact : lapopinette@gmail.com\n\
 nPour en savoir plus, rendez-vous sur http://www.breizhbook.com/events
 /la-popinette-randonnee-nocturne
DTSTART;TZID=Europe/Paris:20130316T183000
DTEND;TZID=Europe/Paris:20130317T010000
CATEGORIES:randonnée, pédestre
LOCATION:chemin des popinettes
WEBSITE:http://lapopinette.wix.com/lapopinette
URL:http://lapopinette.wix.com/lapopinette
CONTACT:
ORGANIZER;CN="GAEL Ar RALLIG":http://www.breizhbook.com/profile/GAELAR
 RALLIG
ATTACH;FMTTYPE="image/jpeg":
ATTENDEE;ROLE=REQ-PARTICIPANT;PARTSTAT=ACCEPTED;RSVP=TRUE;CN="GAEL Ar 
 RALLIG":http://www.breizhbook.com/profile/GAELARRALLIG
END:VEVENT
END:VCALENDAR
