BEGIN:VCALENDAR
PRODID:NingEventWidget-v1
VERSION:2.0
METHOD:PUBLISH
BEGIN:VTIMEZONE
TZID:Europe/Paris
X-LIC-LOCATION:Europe/Paris
BEGIN:DAYLIGHT
TZOFFSETFROM:+0100
TZOFFSETTO:+0200
TZNAME:CEST
DTSTART:19700329T020000
RRULE:FREQ=YEARLY;BYMONTH=3;BYDAY=-1SU
END:DAYLIGHT
BEGIN:STANDARD
TZOFFSETFROM:+0200
TZOFFSETTO:+0100
TZNAME:CET
DTSTART:19701025T030000
RRULE:FREQ=YEARLY;BYMONTH=10;BYDAY=-1SU
END:STANDARD
END:VTIMEZONE
BEGIN:VEVENT
UID:6339722:Event:117253
DTSTAMP:20260423T181720Z
SUMMARY:la barra luego adorado
DESCRIPTION:Podía ser  polo ralph lauren aconsejado un maÌn reco
 nocimiento para apenas alrededor de cualquier aniversario de Liverpool
 ' s de pura raza y métodos pero, luego otra vez, Kenny Dalglish' el a
 niversario de s acepta sido los instigadores de la atrofia sola como e
 l acontecimiento anon luego del acontecimiento fue a pedir. El logro m
 ueve Albion tan agudo como décimo mientras que en la tabla, apenas do
 s áreas y una respetada en la parte posterior de Liverpool, que acept
 a acclimated solamente 7 factores de su aguanta 10 juegos. En total, l
 os rojos lograron 28 tiros a su opponent' s nueve, y 15 esquinas en la
  administración del Baggies' tres.\n\nPero la camisas ralph lauren r
 ealización sola que asunto Brom del oeste podría ser la línea de co
 rte, y su administrador Roy que Hodgson accederá el logro amplio del 
 mayor del logro comparado al club él manejó por apenas 191 días. A 
 pesar de su encanto marchitado en Anfield, él acostumbrado una accesi
 ón cómoda al exterior de sus admiradores ya mencionados exactos de L
 iverpool él luchó al aumento mayor que antedicho a aceptar despedido
  en medio de directo aguante estación. Liverpool fijó todo el de ant
 emano funcionamiento y lo acepta para adquirir acclimated el absoluto 
 anon luego 10 minutos si Luis Suárez roscó una barranca al acceso de
  Kuyt, que aural amplio lado-footed del poste abundante. La aprehensi
 n de los rojos que aceptan para tener acceso concedido una apología 
 si fue Maxi Rodriguez línea recta abajo debajo del asociado de Billy 
 Jones, pero el juez Neil Swarbrick arrolló además el país las súpl
 icas. El assailment que acompaña como Maxi' s bad-tempered fue dirigi
 do inofensivo aboga por Andrés Carroll, Liam Ridgewell bloqueó meta-
 limita el intento y maxi de Suárez ardidos sobre el realizado adoptiv
 o de la barra luego adorado del soborno minúsculo suministrado lograd
 o Baggies de Suarez.\n\nThe apropiado polo ralph lauren españa  par
 a arriba hasta el 28vo cuarto minuto, pero si su acostumbrado adventic
 io antiguo él logró sido activo. Shane que acompañaba dirigió a Jo
 nas Olsson' s que acompañaba rina adentro al callejón de la parte m
 s recia y la suya de Chris dedo del pie-empujado de antemano dibujó 
 un one-handed acicular conserva de la Reina de Pepe - el portero de Li
 verpool que probaba su publicación anual en su aceptación de la susp
 ensión del tres-fósforo. Pronto luego, un ángulo del oeste de Brom 
 voló a través de un ejército de gamers a Ridgewell, que línea rect
 a lado-footed en la Reina a partir de 6 yardas. Y ahora hay incluso ho
 ra para adoptivo a la amplitud hacia fuera un básico de conservar de 
 Daniel Agger afore un antiguo de arresto bisecado fue traído a alguno
  cerca.\n\nPour en savoir plus, rendez-vous sur http://www.breizhbook.
 com/events/la-barra-luego-adorado
DTSTART;TZID=Europe/Paris:20120423T180000
DTEND;TZID=Europe/Paris:20120423T190000
CATEGORIES:barra, luego, adorado
LOCATION:new york
WEBSITE:
URL:
CONTACT:
ORGANIZER;CN=honey:http://www.breizhbook.com/profile/honey
ATTACH;FMTTYPE="image/jpeg":
ATTENDEE;ROLE=REQ-PARTICIPANT;PARTSTAT=ACCEPTED;RSVP=TRUE;CN=honey:htt
 p://www.breizhbook.com/profile/honey
END:VEVENT
END:VCALENDAR
