BEGIN:VCALENDAR
PRODID:NingEventWidget-v1
VERSION:2.0
METHOD:PUBLISH
BEGIN:VTIMEZONE
TZID:Europe/Paris
X-LIC-LOCATION:Europe/Paris
BEGIN:DAYLIGHT
TZOFFSETFROM:+0100
TZOFFSETTO:+0200
TZNAME:CEST
DTSTART:19700329T020000
RRULE:FREQ=YEARLY;BYMONTH=3;BYDAY=-1SU
END:DAYLIGHT
BEGIN:STANDARD
TZOFFSETFROM:+0200
TZOFFSETTO:+0100
TZNAME:CET
DTSTART:19701025T030000
RRULE:FREQ=YEARLY;BYMONTH=10;BYDAY=-1SU
END:STANDARD
END:VTIMEZONE
BEGIN:VEVENT
UID:6339722:Event:118976
DTSTAMP:20260423T175823Z
SUMMARY:\"L'épopée du rock au pays bigouden 1962-1972\"
DESCRIPTION:Gilbert Cariou dédicacera son nouveau livre \" L'épopée
  du rock au Pays bigouden 1962-1972\" à l'Espace Culturel LECLERC de 
 Concarneau samedi 12 Mai 2012 de 15 h à 18 h.\n\nPour en savoir plus,
  rendez-vous sur http://www.breizhbook.com/events/l-pop-e-du-rock-au-p
 ays-bigouden-1962-1972
DTSTART;TZID=Europe/Paris:20120512T150000
DTEND;TZID=Europe/Paris:20120512T180000
CATEGORIES:rencontre, dédicace
LOCATION:Espace Culturel Leclerc
WEBSITE:
URL:
CONTACT:
ORGANIZER:
ATTACH;FMTTYPE="image/jpeg":http://storage.ning.com/topology/rest/1.0/
 file/get/3198311531?profile=original
ATTENDEE;ROLE=REQ-PARTICIPANT;PARTSTAT=ACCEPTED;RSVP=TRUE;CN="Gilbert 
 Cariou":http://www.breizhbook.com/profile/GilbertCariou
END:VEVENT
END:VCALENDAR
