BEGIN:VCALENDAR
PRODID:NingEventWidget-v1
VERSION:2.0
METHOD:PUBLISH
BEGIN:VTIMEZONE
TZID:Europe/Paris
X-LIC-LOCATION:Europe/Paris
BEGIN:DAYLIGHT
TZOFFSETFROM:+0100
TZOFFSETTO:+0200
TZNAME:CEST
DTSTART:19700329T020000
RRULE:FREQ=YEARLY;BYMONTH=3;BYDAY=-1SU
END:DAYLIGHT
BEGIN:STANDARD
TZOFFSETFROM:+0200
TZOFFSETTO:+0100
TZNAME:CET
DTSTART:19701025T030000
RRULE:FREQ=YEARLY;BYMONTH=10;BYDAY=-1SU
END:STANDARD
END:VTIMEZONE
BEGIN:VEVENT
UID:6339722:Event:115880
DTSTAMP:20260423T182608Z
SUMMARY:L'ouverture de l'espace de jeu et de créativité ouvre ses po
 rtes
DESCRIPTION:Vous avez sans doute déjà vu passé l'info, l'espace lud
 ique ouvrira ses portes le lundi 30 avril au 7 rue Saint Conwoïon à 
 Redon.\n\nDe 11h30 jusqu'à 13h30, nous vous proposons de venir boire 
 votre café, thé, … tout en jouant ! Puis revenez jouer dès 20h30
  pour une nuit blanche. Veille de jour férié oblige !\n\nSi vous so
 uhaitez connaître tout, tout suite, sur la programmation du mois, cli
 quez là !\n\nEt n'attendez pas ! Vous pouvez d'ores et déjà rempl
 ir un bulletin d'adhésion pour être le premier des adhérents à fra
 nchir le pas de la porte. Une surprise l'attend !\n\nPour en savoir p
 lus, rendez-vous sur http://www.breizhbook.com/events/l-ouverture-de-l
 -espace-de-jeu-de-cr-ativit-ouvre-ses-portes
DTSTART;TZID=Europe/Paris:20120430T113000
DTEND;TZID=Europe/Paris:20120430T133000
CATEGORIES:ouverture, de, "l'espace", ludique
LOCATION:REDON
WEBSITE:http://maps.google.com/maps/ms?msid=215076945354476608809.0004
 bd8c819f03a018a6e&msa=0
URL:http://maps.google.com/maps/ms?msid=215076945354476608809.0004bd8c
 819f03a018a6e&msa=0
CONTACT:06.09.11.65.85
ORGANIZER;CN="Ti ar C'hoari Breizh":http://www.breizhbook.com/profile/
 TiarChoariBreizh
ATTACH;FMTTYPE="image/jpeg":
ATTENDEE;ROLE=REQ-PARTICIPANT;PARTSTAT=ACCEPTED;RSVP=TRUE;CN="Ti ar C'
 hoari Breizh":http://www.breizhbook.com/profile/TiarChoariBreizh
END:VEVENT
END:VCALENDAR
