BEGIN:VCALENDAR
PRODID:NingEventWidget-v1
VERSION:2.0
METHOD:PUBLISH
BEGIN:VTIMEZONE
TZID:Europe/Paris
X-LIC-LOCATION:Europe/Paris
BEGIN:DAYLIGHT
TZOFFSETFROM:+0100
TZOFFSETTO:+0200
TZNAME:CEST
DTSTART:19700329T020000
RRULE:FREQ=YEARLY;BYMONTH=3;BYDAY=-1SU
END:DAYLIGHT
BEGIN:STANDARD
TZOFFSETFROM:+0200
TZOFFSETTO:+0100
TZNAME:CET
DTSTART:19701025T030000
RRULE:FREQ=YEARLY;BYMONTH=10;BYDAY=-1SU
END:STANDARD
END:VTIMEZONE
BEGIN:VEVENT
UID:6339722:Event:206502
DTSTAMP:20260423T181329Z
SUMMARY:L'océan : terre d'avenir
DESCRIPTION:Leslie Widmann, expert en économie maritime animera une c
 onférence débat sur le thème \"L'océan, terre d'avenir\".Nous essa
 yerons au cours de cette conférence d’analyser le rôle des océans
  et les principaux enjeux liés en ciblant les actions humaines et les
  adéquations possibles (état des lieux), avant de nous intéresser a
 ux ressources que le domaine maritime représente pour l’Homme, dans
  le cadre du renforcement de ses connaissances et des nouveaux comport
 ements à privilégier dans un souci de cohabitation harmonieuse et du
 rable.\n\nPour en savoir plus, rendez-vous sur http://www.breizhbook.c
 om/events/l-oc-an-terre-d-avenir
DTSTART;TZID=Europe/Paris:20130905T200000
DTEND;TZID=Europe/Paris:20130905T230000
CATEGORIES:conférence
LOCATION:Espace associatif - Quimper
WEBSITE:http://www.lalibertedelesprit.org/
URL:http://www.lalibertedelesprit.org/
CONTACT:
ORGANIZER:Association \"La liberté de l'esprit\"
ATTACH;FMTTYPE="image/jpeg":http://storage.ning.com/topology/rest/1.0/
 file/get/3198360536?profile=original
ATTENDEE;ROLE=REQ-PARTICIPANT;PARTSTAT=ACCEPTED;RSVP=TRUE;CN="Hervelin
 e Capi":http://www.breizhbook.com/profile/HervelineCapi
END:VEVENT
END:VCALENDAR
