BEGIN:VCALENDAR
PRODID:NingEventWidget-v1
VERSION:2.0
METHOD:PUBLISH
BEGIN:VTIMEZONE
TZID:Europe/Paris
X-LIC-LOCATION:Europe/Paris
BEGIN:DAYLIGHT
TZOFFSETFROM:+0100
TZOFFSETTO:+0200
TZNAME:CEST
DTSTART:19700329T020000
RRULE:FREQ=YEARLY;BYMONTH=3;BYDAY=-1SU
END:DAYLIGHT
BEGIN:STANDARD
TZOFFSETFROM:+0200
TZOFFSETTO:+0100
TZNAME:CET
DTSTART:19701025T030000
RRULE:FREQ=YEARLY;BYMONTH=10;BYDAY=-1SU
END:STANDARD
END:VTIMEZONE
BEGIN:VEVENT
UID:6339722:Event:168236
DTSTAMP:20260423T181710Z
SUMMARY:Léo38 Printemps! INVITATION pour ce soir...
DESCRIPTION:Léo 38 ouvre enfin les portes de son bloc vers un monde s
 ans limites... à vos regards, à vos oreilles, à votre bon plaisir, 
 Pour commencer : Léo 38 par Junior Cony Émission « Special'Miss » 
 : répertoire de sirènes, pour tout public, of course !! Vendredi 22 
 mars à partir de minuit sur Radio Libertaire 89.4 Pour joindre l'imag
 e au son , n'hésitez pas à vous promener dans les galeries de Léo 3
 8 et autres liens !! Suivez la flèche,        ►   http://go
 toleo.canalblog.com/\n \nGOTOLeo38 par laurent-melon\n\n\n\nPour en s
 avoir plus, rendez-vous sur http://www.breizhbook.com/events/l-o38-pri
 ntemps-invitation-pour-ce-soir
DTSTART;TZID=Europe/Paris:20130322T120000
DTEND;TZID=Europe/Paris:20130323T050000
CATEGORIES:émission, radio, "special miss !"
LOCATION:Musique
WEBSITE:http://gotoleo.canalblog.com/
URL:http://gotoleo.canalblog.com/
CONTACT:
ORGANIZER;CN=Mary:http://www.breizhbook.com/profile/CollMary
ATTACH;FMTTYPE="image/jpeg":http://storage.ning.com/topology/rest/1.0/
 file/get/3198349776?profile=original
ATTENDEE;ROLE=REQ-PARTICIPANT;PARTSTAT=ACCEPTED;RSVP=TRUE;CN=Mary:http
 ://www.breizhbook.com/profile/CollMary
END:VEVENT
END:VCALENDAR
