BEGIN:VCALENDAR
PRODID:NingEventWidget-v1
VERSION:2.0
METHOD:PUBLISH
BEGIN:VTIMEZONE
TZID:Europe/Paris
X-LIC-LOCATION:Europe/Paris
BEGIN:DAYLIGHT
TZOFFSETFROM:+0100
TZOFFSETTO:+0200
TZNAME:CEST
DTSTART:19700329T020000
RRULE:FREQ=YEARLY;BYMONTH=3;BYDAY=-1SU
END:DAYLIGHT
BEGIN:STANDARD
TZOFFSETFROM:+0200
TZOFFSETTO:+0100
TZNAME:CET
DTSTART:19701025T030000
RRULE:FREQ=YEARLY;BYMONTH=10;BYDAY=-1SU
END:STANDARD
END:VTIMEZONE
BEGIN:VEVENT
UID:6339722:Event:173486
DTSTAMP:20260423T181720Z
SUMMARY:Léo 38, reprise de feu ce vendredi...
DESCRIPTION:Bonjour à tous...\nProchaine émission Léo 38 ! vendredi
  26 avril à partir de 00h00sur Radio Libertaire 89.4\n\"Reprise de fe
 u\" présentée par le trio infernal :Papa Laurent - Junior Cony + VR 
 KNPour joindre l'image au son,n'hésitez pas à vous promener dans les
  galeries de Léo 38 et autres liens !!   Écoute et balade sur :  
  http://gotoleo.canalblog.com/...Good Night...\n\n\n\n\n\nPour en savo
 ir plus, rendez-vous sur http://www.breizhbook.com/events/l-o-38-repri
 se-de-feu-ce-vendredi
DTSTART;TZID=Europe/Paris:20130426T120000
DTEND;TZID=Europe/Paris:20130427T170000
CATEGORIES:musique
LOCATION:Musique
WEBSITE:
URL:
CONTACT:
ORGANIZER;CN=Mary:http://www.breizhbook.com/profile/CollMary
ATTACH;FMTTYPE="image/jpeg":http://storage.ning.com/topology/rest/1.0/
 file/get/3198353684?profile=original
ATTENDEE;ROLE=REQ-PARTICIPANT;PARTSTAT=ACCEPTED;RSVP=TRUE;CN=Mary:http
 ://www.breizhbook.com/profile/CollMary
END:VEVENT
END:VCALENDAR
