BEGIN:VCALENDAR
PRODID:NingEventWidget-v1
VERSION:2.0
METHOD:PUBLISH
BEGIN:VTIMEZONE
TZID:Europe/Paris
X-LIC-LOCATION:Europe/Paris
BEGIN:DAYLIGHT
TZOFFSETFROM:+0100
TZOFFSETTO:+0200
TZNAME:CEST
DTSTART:19700329T020000
RRULE:FREQ=YEARLY;BYMONTH=3;BYDAY=-1SU
END:DAYLIGHT
BEGIN:STANDARD
TZOFFSETFROM:+0200
TZOFFSETTO:+0100
TZNAME:CET
DTSTART:19701025T030000
RRULE:FREQ=YEARLY;BYMONTH=10;BYDAY=-1SU
END:STANDARD
END:VTIMEZONE
BEGIN:VEVENT
UID:6339722:Event:176349
DTSTAMP:20260423T163542Z
SUMMARY:L'âme Celte
DESCRIPTION:Olivier RECH Olivier RECH chante l'âme celte,  la nouvel
 le chanson bretonne !\n\nPour en savoir plus, rendez-vous sur http://w
 ww.breizhbook.com/events/l-me-celte
DTSTART;TZID=Europe/Paris:20130608T210000
DTEND;TZID=Europe/Paris:20130608T230000
CATEGORIES:concert
LOCATION:SoGymnase
WEBSITE:http://www.sogymnase.com/spectacle.php?numSpec=51
URL:http://www.sogymnase.com/spectacle.php?numSpec=51
CONTACT:01 42 46 79 79
ORGANIZER;CN="Olivier RECH":http://www.breizhbook.com/profile/OlivierR
 ECH
ATTACH;FMTTYPE="image/jpeg":http://storage.ning.com/topology/rest/1.0/
 file/get/3121775431?profile=original
ATTENDEE;ROLE=REQ-PARTICIPANT;PARTSTAT=ACCEPTED;RSVP=TRUE;CN="Olivier 
 RECH":http://www.breizhbook.com/profile/OlivierRECH
END:VEVENT
END:VCALENDAR
