BEGIN:VCALENDAR
PRODID:NingEventWidget-v1
VERSION:2.0
METHOD:PUBLISH
BEGIN:VTIMEZONE
TZID:Europe/Paris
X-LIC-LOCATION:Europe/Paris
BEGIN:DAYLIGHT
TZOFFSETFROM:+0100
TZOFFSETTO:+0200
TZNAME:CEST
DTSTART:19700329T020000
RRULE:FREQ=YEARLY;BYMONTH=3;BYDAY=-1SU
END:DAYLIGHT
BEGIN:STANDARD
TZOFFSETFROM:+0200
TZOFFSETTO:+0100
TZNAME:CET
DTSTART:19701025T030000
RRULE:FREQ=YEARLY;BYMONTH=10;BYDAY=-1SU
END:STANDARD
END:VTIMEZONE
BEGIN:VEVENT
UID:6339722:Event:119123
DTSTAMP:20260423T181324Z
SUMMARY:L'INSTANT ZEN
DESCRIPTION:Le temps est triste, maussade, pluvieux, vous ne savez que
  faire: profitez-en pour vous offrir un moment de détente, un moment 
 rien que pour vous......Durant tout le mois de Mai venez tester le mod
 elage du ventre \"Tumbo\" à l'Instant Zen à Pont-L'abbé:  20€ au
  lieu de 30€!\nDe nombreux autres modelages peuvent aussi vous faire
  plaisir (californien, ayurvédique, thaïlandais, crânien, amincissa
 nt, réflexologie.....)\n\nPour en savoir plus, rendez-vous sur http:/
 /www.breizhbook.com/events/l-instant-zen
DTSTART;TZID=Europe/Paris:20120510T180000
DTEND;TZID=Europe/Paris:20120510T190000
CATEGORIES:bien-être
LOCATION:L'instant Zen
WEBSITE:http://gandhali.blog4ever.com
URL:http://gandhali.blog4ever.com
CONTACT:06.65.29.81;20
ORGANIZER;CN="L'instant ZEN":http://www.breizhbook.com/profile/Linstan
 tZEN
ATTACH;FMTTYPE="image/jpeg":
ATTENDEE;ROLE=REQ-PARTICIPANT;PARTSTAT=ACCEPTED;RSVP=TRUE;CN="L'instan
 t ZEN":http://www.breizhbook.com/profile/LinstantZEN
END:VEVENT
END:VCALENDAR
