BEGIN:VCALENDAR
PRODID:NingEventWidget-v1
VERSION:2.0
METHOD:PUBLISH
BEGIN:VTIMEZONE
TZID:Europe/Paris
X-LIC-LOCATION:Europe/Paris
BEGIN:DAYLIGHT
TZOFFSETFROM:+0100
TZOFFSETTO:+0200
TZNAME:CEST
DTSTART:19700329T020000
RRULE:FREQ=YEARLY;BYMONTH=3;BYDAY=-1SU
END:DAYLIGHT
BEGIN:STANDARD
TZOFFSETFROM:+0200
TZOFFSETTO:+0100
TZNAME:CET
DTSTART:19701025T030000
RRULE:FREQ=YEARLY;BYMONTH=10;BYDAY=-1SU
END:STANDARD
END:VTIMEZONE
BEGIN:VEVENT
UID:6339722:Event:212561
DTSTAMP:20260423T163553Z
SUMMARY:L'HO et la MER
DESCRIPTION: Spectacle par la Chorale \" les Messagers du Pays de Din
 an\"\n A  15H30 \n le dimanche 10 Novembre 2013 \n\nPour en savoi
 r plus, rendez-vous sur http://www.breizhbook.com/events/l-ho-et-la-me
 r
DTSTART;TZID=Europe/Paris:20131110T153000
DTEND;TZID=Europe/Paris:20131110T170000
CATEGORIES:spectacle, conté, et, chanté, -
LOCATION:Théâtre les Jacobins - DINAN
WEBSITE:http://http:www.messagers-dinan.fr
URL:http://http:www.messagers-dinan.fr
CONTACT:
ORGANIZER:Les Messagers du Pays de Dinan
ATTACH;FMTTYPE="image/jpeg":http://storage.ning.com/topology/rest/1.0/
 file/get/3198362212?profile=original
ATTENDEE;ROLE=REQ-PARTICIPANT;PARTSTAT=ACCEPTED;RSVP=TRUE;CN="Floc'hla
 y Marie-Thérèse":http://www.breizhbook.com/profile/FlochlayMarieTher
 ese
END:VEVENT
END:VCALENDAR
