BEGIN:VCALENDAR
PRODID:NingEventWidget-v1
VERSION:2.0
METHOD:PUBLISH
BEGIN:VTIMEZONE
TZID:Europe/Paris
X-LIC-LOCATION:Europe/Paris
BEGIN:DAYLIGHT
TZOFFSETFROM:+0100
TZOFFSETTO:+0200
TZNAME:CEST
DTSTART:19700329T020000
RRULE:FREQ=YEARLY;BYMONTH=3;BYDAY=-1SU
END:DAYLIGHT
BEGIN:STANDARD
TZOFFSETFROM:+0200
TZOFFSETTO:+0100
TZNAME:CET
DTSTART:19701025T030000
RRULE:FREQ=YEARLY;BYMONTH=10;BYDAY=-1SU
END:STANDARD
END:VTIMEZONE
BEGIN:VEVENT
UID:6339722:Event:159631
DTSTAMP:20260423T175855Z
SUMMARY:\"L'Histoire de Bretagne pour tous\" : Séance de rattrapage
DESCRIPTION:Le magazine \"Bretons\" de Février 2013 titre \"69% des b
 retons ignorent leur histoire\". il est donc temps de changer ce sonda
 ge...\n\nPour y remédier, venez nombreux à la conférence :  \"L'His
 toire de Bretagne pour tous\"  organisée par Div yezh Bruz en partena
 riat avec Bruzhoneg Dans le cadre de Sevenadur, événement culturel s
 ur le pays de Rennes  le Vendredi 15 mars à 20h30 à Bruz  Cette conf
 érence sera animée par l'historien Jean-Jacques Monnier et l'homme d
 e radio Olivier Caillebot auteurs de l'Audio-Livre \"L'Histoire de Bre
 tagne pour tous\" : un livre et 4CD, qui parcourent toute l'Histoire d
 e Bretagne sous une forme totalement nouvelle : une interview entrecou
 pée de vidéos et de documents sonores.  Un public de tous les âges 
 peut maintenant commencer à avoir des repères en histoire sans effor
 t particulier, à connaître ou mieux à comprendre l'Histoire de Bret
 agne, si peu apprise à l'école.  Entrée gratuite Maison des associa
 tions de Bruz, Salle Romarin, 59 avenue Alphone Legault, 35170 Bruz   
 Div yezh Bruz : Association de parents d'élèves pour un enseignement
  bilingue breton-français à l'école publique http://divyezh.bruz.fr
 ee.fr  Bruzhoneg : Association bruzoise animé par l’envie de promou
 voir les langues et les cultures de Bretagne sur le territoire de la c
 ommune de Bruz et ses environs proches http://bruzhoneg.breizhpositive
 .com/  Sevenadur : Evénement organisé par le Cercle celtique de Renn
 es http://www.sevenadur.org/  Voir le site dédié au livre audio http
 ://breizhltw.wix.com/histoire-de-bretagne?ref=nf\n\n\nPour en savoir p
 lus, rendez-vous sur http://www.breizhbook.com/events/l-histoire-de-br
 etagne-pour-tous-s-ance-de-rattrapage
DTSTART;TZID=Europe/Paris:20130315T203000
DTEND;TZID=Europe/Paris:20130315T223000
CATEGORIES:conférence
LOCATION:Bruz, maison des associations
WEBSITE:http://divyezh.bruz.free.fr
URL:http://divyezh.bruz.free.fr
CONTACT:0661732892
ORGANIZER;CN="Div Yezh Bruz":http://www.breizhbook.com/profile/DivYezh
 Bruz
ATTACH;FMTTYPE="image/jpeg":http://storage.ning.com/topology/rest/1.0/
 file/get/3198343351?profile=original
ATTENDEE;ROLE=REQ-PARTICIPANT;PARTSTAT=ACCEPTED;RSVP=TRUE;CN="Dewi Mal
 o":http://www.breizhbook.com/profile/DewiMalo
ATTENDEE;ROLE=REQ-PARTICIPANT;PARTSTAT=ACCEPTED;RSVP=TRUE;CN="Div Yezh
  Bruz":http://www.breizhbook.com/profile/DivYezhBruz
END:VEVENT
END:VCALENDAR
