BEGIN:VCALENDAR
PRODID:NingEventWidget-v1
VERSION:2.0
METHOD:PUBLISH
BEGIN:VTIMEZONE
TZID:Europe/Paris
X-LIC-LOCATION:Europe/Paris
BEGIN:DAYLIGHT
TZOFFSETFROM:+0100
TZOFFSETTO:+0200
TZNAME:CEST
DTSTART:19700329T020000
RRULE:FREQ=YEARLY;BYMONTH=3;BYDAY=-1SU
END:DAYLIGHT
BEGIN:STANDARD
TZOFFSETFROM:+0200
TZOFFSETTO:+0100
TZNAME:CET
DTSTART:19701025T030000
RRULE:FREQ=YEARLY;BYMONTH=10;BYDAY=-1SU
END:STANDARD
END:VTIMEZONE
BEGIN:VEVENT
UID:6339722:Event:217563
DTSTAMP:20260423T192917Z
SUMMARY:L'Europe au quotidien
DESCRIPTION:Lundi 16 décembre 2013 la Maison de l’Europe de Brest, 
 centre d’information Europe Direct, organise le 2e débat de son cyc
 le de conférences mensuelles : \"L’Europe au quotidien\", à 18h30,
  au 16 rue de l’Harteloire.La thématique abordée cette fois-ci ser
 a : la qualité de vie en Europe.\"L’Europe au quotidien\" est un te
 mps fort destiné à donner la parole aux citoyens européens. Les Fin
 istériens sont conviés à venir s’exprimer, débattre et échanger
  autour du mode de vie européen, en évoquant les sujets comme la non
 -discrimination, la solidarité, la protection de la vie privée ou en
 core l'égalité des chances.Véritable occasion de venir débattre au
 tour des questions européennes, cette conférence-débat est ouverte 
 à tous.Pour plus d'informations : http://www.maisoneurope-brest.eu\n\
 nPour en savoir plus, rendez-vous sur http://www.breizhbook.com/events
 /l-europe-au-quotidien
DTSTART;TZID=Europe/Paris:20131216T183000
DTEND;TZID=Europe/Paris:20131216T200000
CATEGORIES:conférence-débat
LOCATION:Maison de l'Europe de brest, 16 rue de l'Harteloire
WEBSITE:
URL:
CONTACT:
ORGANIZER;CN="Maison de l'Europe de Brest":http://www.breizhbook.com/p
 rofile/MaisondelEuropedeBrest
ATTACH;FMTTYPE="image/jpeg":http://storage.ning.com/topology/rest/1.0/
 file/get/3198364039?profile=original
ATTENDEE;ROLE=REQ-PARTICIPANT;PARTSTAT=ACCEPTED;RSVP=TRUE;CN="Maison d
 e l'Europe de Brest":http://www.breizhbook.com/profile/MaisondelEurope
 deBrest
END:VEVENT
END:VCALENDAR
