BEGIN:VCALENDAR
PRODID:NingEventWidget-v1
VERSION:2.0
METHOD:PUBLISH
BEGIN:VTIMEZONE
TZID:Europe/Paris
X-LIC-LOCATION:Europe/Paris
BEGIN:DAYLIGHT
TZOFFSETFROM:+0100
TZOFFSETTO:+0200
TZNAME:CEST
DTSTART:19700329T020000
RRULE:FREQ=YEARLY;BYMONTH=3;BYDAY=-1SU
END:DAYLIGHT
BEGIN:STANDARD
TZOFFSETFROM:+0200
TZOFFSETTO:+0100
TZNAME:CET
DTSTART:19701025T030000
RRULE:FREQ=YEARLY;BYMONTH=10;BYDAY=-1SU
END:STANDARD
END:VTIMEZONE
BEGIN:VEVENT
UID:6339722:Event:143849
DTSTAMP:20260423T215113Z
SUMMARY:L'ACB à Bruxelles lundi 10 décembre 2012
DESCRIPTION:Dans le prolongement des actions que nous conduisons à Pa
 ris sur les enjeux liés à l’internationalisation des entreprises, 
 l’exportation des technologies et des produits, la promotion de la c
 ulture et de la créativité bretonnes par-delà les frontières natio
 nales, l’ACB souhaite structurer à Bruxelles une plateforme de déb
 at et d'information de qualité. Dans cette perspective, nous organi
 sons une réunion d'échanges le 10 décembre prochain à la Délégat
 ion permanente Bretagne Europe sur la thématique : \"La Bretagne et l
 'Europe : développement territorial et rayonnement international\". I
 nterviendront à cette occasion le directeur de Produit en Bretagne, 
 un représentant de la Conférence permanente des Technopôles de Bret
 agne ainsi que la chargée de mission auprès du Conseil régional pou
 r la Fête de la Bretagne. en savoir plus \n\nPour en savoir plus, re
 ndez-vous sur http://www.breizhbook.com/events/l-acb-bruxelles-lundi-1
 0-d-cembre-2012
DTSTART;TZID=Europe/Paris:20121210T183000
DTEND;TZID=Europe/Paris:20121210T210000
CATEGORIES:réunion
LOCATION:Délégation permanente Bretagne Europe
WEBSITE:http://www.cadres-bretons.fr/
URL:http://www.cadres-bretons.fr/
CONTACT:
ORGANIZER;CN="Association des Cadres Bretons":http://www.breizhbook.co
 m/profile/AssociationdesCadresBretons777
ATTACH;FMTTYPE="image/jpeg":http://storage.ning.com/topology/rest/1.0/
 file/get/3198330879?profile=original
ATTENDEE;ROLE=REQ-PARTICIPANT;PARTSTAT=ACCEPTED;RSVP=TRUE;CN="Simon Uz
 enat":http://www.breizhbook.com/profile/SimonUzenat
ATTENDEE;ROLE=REQ-PARTICIPANT;PARTSTAT=ACCEPTED;RSVP=TRUE;CN="Associat
 ion des Cadres Bretons":http://www.breizhbook.com/profile/Associationd
 esCadresBretons777
END:VEVENT
END:VCALENDAR
