BEGIN:VCALENDAR
PRODID:NingEventWidget-v1
VERSION:2.0
METHOD:PUBLISH
BEGIN:VTIMEZONE
TZID:Europe/Paris
X-LIC-LOCATION:Europe/Paris
BEGIN:DAYLIGHT
TZOFFSETFROM:+0100
TZOFFSETTO:+0200
TZNAME:CEST
DTSTART:19700329T020000
RRULE:FREQ=YEARLY;BYMONTH=3;BYDAY=-1SU
END:DAYLIGHT
BEGIN:STANDARD
TZOFFSETFROM:+0200
TZOFFSETTO:+0100
TZNAME:CET
DTSTART:19701025T030000
RRULE:FREQ=YEARLY;BYMONTH=10;BYDAY=-1SU
END:STANDARD
END:VTIMEZONE
BEGIN:VEVENT
UID:6339722:Event:167523
DTSTAMP:20260423T163539Z
SUMMARY:Journée Modelage Bien-être
DESCRIPTION:Journée de formation\nModelage bien-être\nSamedi 1er Jui
 n de 10 à 17h\n« Bien dans son corps, bien dans sa tête »\n\nAu 
 programme :\n\nSoin des mains : gommage et modelage\n\n\nIdem pour l
 es pieds (tout spécialement apprécié par les jeunes enfants)\n\n\nS
 oin du visage : démaquillage, gommage, modelage, masque et crème de
  soin.\n\n\nTous les produits cosmétiques utilisés seront fabriqués
  sur place.\nSoin effectué en binôme sur table de massage.\n\nInscri
 ptions obligatoires (30€ d’arrhes). 6 pers maxi.\nJournée 55€ 
 : produits, livret de formation, pauses gourmandes.\nPrévoir serviett
 es de toilette, attache-cheveux, repas à partager.\nMentionner si vou
 s êtes intéressés par du co-voiturage pour que je vous mette en rel
 ation lorsque possibilité.\n\nplus d'infos sur:\nhttp://dutempspourso
 i.over-blog.com/\n\n\nPour en savoir plus, rendez-vous sur http://www.
 breizhbook.com/events/journ-e-modelage-bien-tre
DTSTART;TZID=Europe/Paris:20130601T000000
DTEND;TZID=Europe/Paris:20130601T235900
CATEGORIES:formation
LOCATION:Atelier Du Temps pour Soi
WEBSITE:https://maps.google.com/maps?q=Couabrac,+Ding%C3%A9,+France&hl
 =fr&ie=UTF8&sll=37.0625,-95.677068&sspn=43.123021,91.845703&oq=16&hnea
 r=Couabrac,+Ding%C3%A9,+Ille-et-Vilaine,+Bretagne,+France&t=m&z=15
URL:https://maps.google.com/maps?q=Couabrac,+Ding%C3%A9,+France&hl=fr&
 ie=UTF8&sll=37.0625,-95.677068&sspn=43.123021,91.845703&oq=16&hnear=Co
 uabrac,+Ding%C3%A9,+Ille-et-Vilaine,+Bretagne,+France&t=m&z=15
CONTACT:06.81.66.59.91
ORGANIZER;CN=roseau-bzh:http://www.breizhbook.com/profile/DUTEMPSPOURS
 OI
ATTACH;FMTTYPE="image/jpeg":http://storage.ning.com/topology/rest/1.0/
 file/get/3198350442?profile=original
ATTENDEE;ROLE=REQ-PARTICIPANT;PARTSTAT=ACCEPTED;RSVP=TRUE;CN=roseau-bz
 h:http://www.breizhbook.com/profile/DUTEMPSPOURSOI
END:VEVENT
END:VCALENDAR
