BEGIN:VCALENDAR
PRODID:NingEventWidget-v1
VERSION:2.0
METHOD:PUBLISH
BEGIN:VTIMEZONE
TZID:Europe/Paris
X-LIC-LOCATION:Europe/Paris
BEGIN:DAYLIGHT
TZOFFSETFROM:+0100
TZOFFSETTO:+0200
TZNAME:CEST
DTSTART:19700329T020000
RRULE:FREQ=YEARLY;BYMONTH=3;BYDAY=-1SU
END:DAYLIGHT
BEGIN:STANDARD
TZOFFSETFROM:+0200
TZOFFSETTO:+0100
TZNAME:CET
DTSTART:19701025T030000
RRULE:FREQ=YEARLY;BYMONTH=10;BYDAY=-1SU
END:STANDARD
END:VTIMEZONE
BEGIN:VEVENT
UID:6339722:Event:122410
DTSTAMP:20260423T175713Z
SUMMARY:Journée Haïti Family Party
DESCRIPTION:Envie de partager un moment en famille tout en aidant une 
 association…\nEnvie de vous amuser avant les vacances d'été…\nN'
 hésitez plus et venez nous rejoindre le dimanche 1er juillet sur les 
 espaces verts de la Ville Oger de St-Brieuc (de 11h à 18h).\nSuite au
  tremblement de terre de 2010, PICA (Pompier International des Côtes 
 d'Armor) ainsi que deux autres associations ont construit un dispensai
 re, pour aider à faire fonctionner celui-ci, la Jeune Chambre Economi
 que de St-Brieuc organise une journée familiale et conviviale au prof
 it de PICA (Pompier International des Côtes d'Armor).\nVous pouvez y 
 venir pour pique-niquer et profiter des différentes animations propos
 ées, aller vite sur le blog http://haitifamilyparty.wordpress.com/ p
 our les découvrir ! Ainsi, venez nombreux !!! Joie et bonne humeur s
 eront au rendez-vous !!\n\nPour en savoir plus, rendez-vous sur http:
 //www.breizhbook.com/events/journ-e-ha-ti-family-party
DTSTART;TZID=Europe/Paris:20120701T000000
DTEND;TZID=Europe/Paris:20120701T235900
CATEGORIES:collecte, de, fond, pour, "l'association", pica
LOCATION:Espaces Verts de la Ville Oger à Saint-Brieuc
WEBSITE:http://maps.google.com/
URL:http://maps.google.com/
CONTACT:
ORGANIZER;CN="Delphine 22":http://www.breizhbook.com/profile/Delphine2
 2
ATTACH;FMTTYPE="image/jpeg":http://storage.ning.com/topology/rest/1.0/
 file/get/3198319319?profile=original
ATTENDEE;ROLE=REQ-PARTICIPANT;PARTSTAT=ACCEPTED;RSVP=TRUE;CN="Delphine
  22":http://www.breizhbook.com/profile/Delphine22
END:VEVENT
END:VCALENDAR
