BEGIN:VCALENDAR
PRODID:NingEventWidget-v1
VERSION:2.0
METHOD:PUBLISH
BEGIN:VTIMEZONE
TZID:Europe/Paris
X-LIC-LOCATION:Europe/Paris
BEGIN:DAYLIGHT
TZOFFSETFROM:+0100
TZOFFSETTO:+0200
TZNAME:CEST
DTSTART:19700329T020000
RRULE:FREQ=YEARLY;BYMONTH=3;BYDAY=-1SU
END:DAYLIGHT
BEGIN:STANDARD
TZOFFSETFROM:+0200
TZOFFSETTO:+0100
TZNAME:CET
DTSTART:19701025T030000
RRULE:FREQ=YEARLY;BYMONTH=10;BYDAY=-1SU
END:STANDARD
END:VTIMEZONE
BEGIN:VEVENT
UID:6339722:Event:114909
DTSTAMP:20260423T162118Z
SUMMARY:Journée conseils éducation et problème de comportements can
 in
DESCRIPTION:Journée conseils éducation et problème de comportements
  canin à Jardiland.\n\nPour en savoir plus, rendez-vous sur http://ww
 w.breizhbook.com/events/journ-e-conseils-ducation-et-probl-me-de-compo
 rtements-canin
DTSTART;TZID=Europe/Paris:20120908T000000
DTEND;TZID=Europe/Paris:20120908T235900
CATEGORIES:conseils, canin
LOCATION:Jardiland
WEBSITE:http://doudog.doudog.net
URL:http://doudog.doudog.net
CONTACT:06.60.54.71.86
ORGANIZER;CN=Doudog:http://www.breizhbook.com/profile/Doudog
ATTACH;FMTTYPE="image/jpeg":http://storage.ning.com/topology/rest/1.0/
 file/get/3151678290?profile=original
ATTENDEE;ROLE=REQ-PARTICIPANT;PARTSTAT=ACCEPTED;RSVP=TRUE;CN=Doudog:ht
 tp://www.breizhbook.com/profile/Doudog
END:VEVENT
END:VCALENDAR
