BEGIN:VCALENDAR
PRODID:NingEventWidget-v1
VERSION:2.0
METHOD:PUBLISH
BEGIN:VTIMEZONE
TZID:Europe/Paris
X-LIC-LOCATION:Europe/Paris
BEGIN:DAYLIGHT
TZOFFSETFROM:+0100
TZOFFSETTO:+0200
TZNAME:CEST
DTSTART:19700329T020000
RRULE:FREQ=YEARLY;BYMONTH=3;BYDAY=-1SU
END:DAYLIGHT
BEGIN:STANDARD
TZOFFSETFROM:+0200
TZOFFSETTO:+0100
TZNAME:CET
DTSTART:19701025T030000
RRULE:FREQ=YEARLY;BYMONTH=10;BYDAY=-1SU
END:STANDARD
END:VTIMEZONE
BEGIN:VEVENT
UID:6339722:Event:254060
DTSTAMP:20260423T161957Z
SUMMARY:JeUdis des Contes au BoÃ«l
DESCRIPTION:contes et merveilles au bord de l'eau, en Pays de Rennes -
  Vallons de Vilaine, GUICHEN (Pont-RÃ©an)PrÃ¨s du bar-restaurant Â« Le
  Marinâ€™BoÃ«l Â»Ã  20 h 30 les jeudis26 juin : Â« du grain au pain Â»
  il se passe de drÃ´les de choses autour des meuniers et des moulins..
 .10 juillet : Â« les Asnes sont des As ! Â» Embarquons pour de drÃ´lat
 iques sagesses contÃ©es !... Hi ! Han !24 juillet : Â« BrocÃ©liande su
 r Vilaine Â» Xavier LesÃ¨che vous emmÃ¨ne, sur les sentes dâ€™une forÃ
 ªt de mots...Ã  15h 30 le 28 aoÃ»t : Â« in-certain temps Â»... Ã©trang
 es mÃ©tamorphoses et relativitÃ© du temps. Balade contÃ©e familiale av
 ec vues plongeantes sur la Vilaine.6 â‚¬ Ã  partir de 7 ans, gratuit p
 our les plus jeunesEn cas de mauvais temps, pas de souci !... nous nou
 s installerons soit sous les parasols-parapluies en terrasse, ou dans 
 la petite salle Ã  l'Ã©tage, ou bien encore au bar... selon le nombre 
 et la tempÃ©rature !Si des personnes veulent aussi dÃ®ner, c'est \"ava
 nt\" les contes, car aprÃ¨s Ã§a ferait trop tard !Julia & Cyril, resta
 urant Â« Le Marin BoÃ«l Â», Le BoÃ«l, 35580 Pont-RÃ©an en GUICHEN, 02.
 99.42.25.69Prestation initiÃ©e par l'Association \"Compagnie Contes et
  merveilles\" (licences d'entrepreneur de spectacles : 2-1058998 & 3-1
 058999), P/O Jean-Pierre MATHIAS 02.99.42.89.39Â  http://www.contes-et
 -merveilles.comÂ Â Â  jeanpierremathias@contes-et-merveilles.com\n\nPo
 ur en savoir plus, rendez-vous sur http://www.breizhbook.com/events/je
 udis-des-contes-au-bo-l
DTSTART;TZID=Europe/Paris:20140626T203000
DTEND;TZID=Europe/Paris:20140828T190000
CATEGORIES:conte
LOCATION:Le BoÃ«l
WEBSITE:http://contes-et-merveilles.com/agenda.php
URL:http://contes-et-merveilles.com/agenda.php
CONTACT:0299428939
ORGANIZER;CN=MATHIAS:http://www.breizhbook.com/profile/MATHIAS
ATTACH;FMTTYPE="image/jpeg":http://storage.ning.com/topology/rest/1.0/
 file/get/3198373073?profile=original
ATTENDEE;ROLE=REQ-PARTICIPANT;PARTSTAT=ACCEPTED;RSVP=TRUE;CN=MATHIAS:h
 ttp://www.breizhbook.com/profile/MATHIAS
END:VEVENT
END:VCALENDAR
