BEGIN:VCALENDAR
PRODID:NingEventWidget-v1
VERSION:2.0
METHOD:PUBLISH
BEGIN:VTIMEZONE
TZID:Europe/Paris
X-LIC-LOCATION:Europe/Paris
BEGIN:DAYLIGHT
TZOFFSETFROM:+0100
TZOFFSETTO:+0200
TZNAME:CEST
DTSTART:19700329T020000
RRULE:FREQ=YEARLY;BYMONTH=3;BYDAY=-1SU
END:DAYLIGHT
BEGIN:STANDARD
TZOFFSETFROM:+0200
TZOFFSETTO:+0100
TZNAME:CET
DTSTART:19701025T030000
RRULE:FREQ=YEARLY;BYMONTH=10;BYDAY=-1SU
END:STANDARD
END:VTIMEZONE
BEGIN:VEVENT
UID:6339722:Event:128038
DTSTAMP:20260423T163540Z
SUMMARY:JALY
DESCRIPTION:Je serai à l'expo de St Gildas de Ruys, à la salle kerus
 en, avec d'autres artistes.\nExposition deQualité. Venez nombreux.\nC
 ordiales salutations à tous\nJaly\n\nPour en savoir plus, rendez-vous
  sur http://www.breizhbook.com/events/jaly
DTSTART;TZID=Europe/Paris:20120727T220000
DTEND;TZID=Europe/Paris:20120803T190000
CATEGORIES:exposition, de, peinture
LOCATION:Salle Kercaradec  St Gildas de Rhuys
WEBSITE:
URL:
CONTACT:
ORGANIZER:salon des arts en rhuys
ATTACH;FMTTYPE="image/jpeg":http://storage.ning.com/topology/rest/1.0/
 file/get/3198321407?profile=original
ATTENDEE;ROLE=REQ-PARTICIPANT;PARTSTAT=ACCEPTED;RSVP=TRUE;CN="Jaly Lim
 ousi":http://www.breizhbook.com/profile/JalyLimousi
END:VEVENT
END:VCALENDAR
