BEGIN:VCALENDAR
PRODID:NingEventWidget-v1
VERSION:2.0
METHOD:PUBLISH
BEGIN:VTIMEZONE
TZID:Europe/Paris
X-LIC-LOCATION:Europe/Paris
BEGIN:DAYLIGHT
TZOFFSETFROM:+0100
TZOFFSETTO:+0200
TZNAME:CEST
DTSTART:19700329T020000
RRULE:FREQ=YEARLY;BYMONTH=3;BYDAY=-1SU
END:DAYLIGHT
BEGIN:STANDARD
TZOFFSETFROM:+0200
TZOFFSETTO:+0100
TZNAME:CET
DTSTART:19701025T030000
RRULE:FREQ=YEARLY;BYMONTH=10;BYDAY=-1SU
END:STANDARD
END:VTIMEZONE
BEGIN:VEVENT
UID:6339722:Event:128203
DTSTAMP:20260423T163336Z
SUMMARY:Jaly au salon des arts à SURZUR
DESCRIPTION:Le salon se déroule du 14 au 22 juillet à la salle des s
 ports de Surzur.Il y a 70 artistes tous styles confondus.Les visiteurs
  votent pour leur artiste préféré.Si mes tableaux vous plaisent, vo
 tez pour moi, cela me feras plaisir\nMerci d'avance\nJaly\n\nPour en s
 avoir plus, rendez-vous sur http://www.breizhbook.com/events/jaly-au-s
 alon-des-arts-surzur
DTSTART;TZID=Europe/Paris:20120717T220000
DTEND;TZID=Europe/Paris:20120722T190000
CATEGORIES:exposition, de, peinture
LOCATION:Salle des sports
WEBSITE:
URL:
CONTACT:
ORGANIZER:la délèguée de la culture
ATTACH;FMTTYPE="image/jpeg":
ATTENDEE;ROLE=REQ-PARTICIPANT;PARTSTAT=ACCEPTED;RSVP=TRUE;CN="Jaly Lim
 ousi":http://www.breizhbook.com/profile/JalyLimousi
END:VEVENT
END:VCALENDAR
