BEGIN:VCALENDAR
PRODID:NingEventWidget-v1
VERSION:2.0
METHOD:PUBLISH
BEGIN:VTIMEZONE
TZID:Europe/Paris
X-LIC-LOCATION:Europe/Paris
BEGIN:DAYLIGHT
TZOFFSETFROM:+0100
TZOFFSETTO:+0200
TZNAME:CEST
DTSTART:19700329T020000
RRULE:FREQ=YEARLY;BYMONTH=3;BYDAY=-1SU
END:DAYLIGHT
BEGIN:STANDARD
TZOFFSETFROM:+0200
TZOFFSETTO:+0100
TZNAME:CET
DTSTART:19701025T030000
RRULE:FREQ=YEARLY;BYMONTH=10;BYDAY=-1SU
END:STANDARD
END:VTIMEZONE
BEGIN:VEVENT
UID:6339722:Event:127941
DTSTAMP:20260423T144332Z
SUMMARY:Jaly
DESCRIPTION:Bonjour à tous\nA partir du 1er septembre, je déménage 
 sur la commune de Marzan. Je donnerai désormais mes cours dans un nou
 veau lieu. La formule sera la même. En 3h vous faites un tableau.\n25
 € les trois heures. Pas d'abonnement. Pour avoir la nouvelle adresse
 , merci de me contacter au 06 62 24 09 85.\nSalutations\nJaly\n\nPour 
 en savoir plus, rendez-vous sur http://www.breizhbook.com/events/jaly-
 1
DTSTART;TZID=Europe/Paris:20120901T180000
DTEND;TZID=Europe/Paris:20120930T190000
CATEGORIES:déménagement
LOCATION:Marzan
WEBSITE:http://www.jaly-artiste-peintre.fr
URL:http://www.jaly-artiste-peintre.fr
CONTACT:06 62 24 09 85
ORGANIZER;CN="Jaly Limousi":http://www.breizhbook.com/profile/JalyLimo
 usi
ATTACH;FMTTYPE="image/jpeg":http://storage.ning.com/topology/rest/1.0/
 file/get/3198321686?profile=original
ATTENDEE;ROLE=REQ-PARTICIPANT;PARTSTAT=ACCEPTED;RSVP=TRUE;CN="Jaly Lim
 ousi":http://www.breizhbook.com/profile/JalyLimousi
END:VEVENT
END:VCALENDAR
