BEGIN:VCALENDAR
PRODID:NingEventWidget-v1
VERSION:2.0
METHOD:PUBLISH
BEGIN:VTIMEZONE
TZID:Europe/Paris
X-LIC-LOCATION:Europe/Paris
BEGIN:DAYLIGHT
TZOFFSETFROM:+0100
TZOFFSETTO:+0200
TZNAME:CEST
DTSTART:19700329T020000
RRULE:FREQ=YEARLY;BYMONTH=3;BYDAY=-1SU
END:DAYLIGHT
BEGIN:STANDARD
TZOFFSETFROM:+0200
TZOFFSETTO:+0100
TZNAME:CET
DTSTART:19701025T030000
RRULE:FREQ=YEARLY;BYMONTH=10;BYDAY=-1SU
END:STANDARD
END:VTIMEZONE
BEGIN:VEVENT
UID:6339722:Event:131842
DTSTAMP:20260423T120422Z
SUMMARY:.It helps customers to identify the company's products
DESCRIPTION:Brand name,in a nutshell,is the essence of your business.I
 f we follow the dictionary of business management brand is \"a name, s
 ign or symbol used to identify items or services of the sellers and to
  differentiate them from goods of competitors\".Simply speaking,brand 
 is the image of the company developed in the mind of consumers.It help
 s customers to identify the company's products or services from the ot
 hers.\nIn this highly competitive business world it is essential to de
 velop good marketing strategies and follow them religiously.Therefore,
 brand identity marketing is an essential part of the business.But ther
 e is a thin line between brand identity and corporate identity that on
 e needs to understand in order to develop effective branding strategy.
 \nDifferentiate between Brand Identity and Corporate Identity\nBrand i
 dentity is the total proposition that include the performance quality,
 services and support along with the promisesthe company makes to its c
 ustomers.The brand can be perceived as a set of values that helps to a
 cquire a place in people's mind.Brand image is how people see the bran
 d while brand identity is very much what the company wants their brand
  to be perceived by the consumers out there.\nCorporate identity,on th
 e other hand, can be translated into the visual aspects of a company's
  existence.Building or reviving corporate identity entails modifying a
 nd modernizing logo,image designs and security aspects while keeping t
 he core of the brand-- that is,the name and image to its customers as 
 it is.Unfortunately many companies get lead astray by various business
  consultancies while building their corporate identity.It is a misconc
 eption that changing logos,posters,advertisements northfaceoutleta a
 nd outlet designs of the company will help in popularizing brand.\nDev
 elop Brand Identity\nThere are several aspects of building and marketi
 ng brand identity.Systematic and practical approach can definitely ear
 n you a good name to stand out in the constantly varying consumer worl
 d.To promote brand identity you can buy 'brand kit' that comprises log
 o,business cards,letterhead,envelope,brochure and most importantly web
 site.All are uniquely designed to create distinct identity of your com
 pany.\nCreate a Personality\n\n\nPour en savoir plus, rendez-vous sur 
 http://www.breizhbook.com/events/it-helps-customers-to-identify-the-co
 mpany-s-products
DTSTART;TZID=Europe/Paris:20120910T180000
DTEND;TZID=Europe/Paris:20120930T190000
CATEGORIES:birthday, party
LOCATION:阿尔及利亚
WEBSITE:
URL:
CONTACT:
ORGANIZER;CN="willis surrey charles":http://www.breizhbook.com/profile
 /willissurreycharles
ATTACH;FMTTYPE="image/jpeg":
ATTENDEE;ROLE=REQ-PARTICIPANT;PARTSTAT=ACCEPTED;RSVP=TRUE;CN="willis s
 urrey charles":http://www.breizhbook.com/profile/willissurreycharles
END:VEVENT
END:VCALENDAR
