BEGIN:VCALENDAR
PRODID:NingEventWidget-v1
VERSION:2.0
METHOD:PUBLISH
BEGIN:VTIMEZONE
TZID:Europe/Paris
X-LIC-LOCATION:Europe/Paris
BEGIN:DAYLIGHT
TZOFFSETFROM:+0100
TZOFFSETTO:+0200
TZNAME:CEST
DTSTART:19700329T020000
RRULE:FREQ=YEARLY;BYMONTH=3;BYDAY=-1SU
END:DAYLIGHT
BEGIN:STANDARD
TZOFFSETFROM:+0200
TZOFFSETTO:+0100
TZNAME:CET
DTSTART:19701025T030000
RRULE:FREQ=YEARLY;BYMONTH=10;BYDAY=-1SU
END:STANDARD
END:VTIMEZONE
BEGIN:VEVENT
UID:6339722:Event:209547
DTSTAMP:20260423T164308Z
SUMMARY:IROISE TROPHY - Inscriptions jusqu'au 27 septembre 2013.
DESCRIPTION:\n\nLe rallye « Iroise Trophy » est organisé le 19 oc
 tobre Prochain par l’association « Breizh 4L » au profit de l'as
 sociation « Fée du Bonheur » à n'hésitez vous inscrire et à pa
 rtager nous comptons sur vous tous !\n\nL'association Fée du bonheur 
 réalise les rêves d'enfants malades. « Réaliser le rêve d'enfants
  malades et/ou hospitalisés en Bretagne, tel est l'objectif de l'asso
 ciation Fée du bonheur », explique son président et créateur. À l
 'origine, en 1994, l'association s'appelait Coup de main. Elle a pris 
 son nouveau nom au début des années 2000. Cette association à but n
 on lucratif a signé une convention avec le Centre hospitalier région
 al universitaire (CHRU) de Brest. Elle fonctionne avec une vingtaine d
 e bénévoles. « Depuis 2002, 44 rêves ont été réalisés, dont di
 x l'an passé. \n\nTarifs Iroise Trophy :\n20 euros/participants\n10 
 euros pour les étudiants\nGratuit pour les -7ans\n\nRèglement, fiche
  d'inscription et programme disponibles sur le site dédié à l’é
 vénement\n\nPour en savoir plus, rendez-vous sur http://www.breizhboo
 k.com/events/iroise-trophy-inscription-jusqu-au-27-septembre-2013
DTSTART;TZID=Europe/Paris:20131019T000000
DTEND;TZID=Europe/Paris:20131019T235900
CATEGORIES:sortie, récréative-, randonnée, -, rallye, touristique
LOCATION:Plouzane - Plougonvelin - Le Conquet ..........arrivée Brest
WEBSITE:http://iroisetrophy.fr/topic/index.html
URL:http://iroisetrophy.fr/topic/index.html
CONTACT:
ORGANIZER;CN="ASSOCIATION BREIZH 4L":http://www.breizhbook.com/profile
 /ASSOCIATIONBREIZH4L
ATTACH;FMTTYPE="image/jpeg":http://storage.ning.com/topology/rest/1.0/
 file/get/3121709761?profile=original
ATTENDEE;ROLE=REQ-PARTICIPANT;PARTSTAT=ACCEPTED;RSVP=TRUE;CN="ASSOCIAT
 ION BREIZH 4L":http://www.breizhbook.com/profile/ASSOCIATIONBREIZH4L
END:VEVENT
END:VCALENDAR
