BEGIN:VCALENDAR
PRODID:NingEventWidget-v1
VERSION:2.0
METHOD:PUBLISH
BEGIN:VTIMEZONE
TZID:Europe/Paris
X-LIC-LOCATION:Europe/Paris
BEGIN:DAYLIGHT
TZOFFSETFROM:+0100
TZOFFSETTO:+0200
TZNAME:CEST
DTSTART:19700329T020000
RRULE:FREQ=YEARLY;BYMONTH=3;BYDAY=-1SU
END:DAYLIGHT
BEGIN:STANDARD
TZOFFSETFROM:+0200
TZOFFSETTO:+0100
TZNAME:CET
DTSTART:19701025T030000
RRULE:FREQ=YEARLY;BYMONTH=10;BYDAY=-1SU
END:STANDARD
END:VTIMEZONE
BEGIN:VEVENT
UID:6339722:Event:122611
DTSTAMP:20260423T164338Z
SUMMARY:Invitation au vernissage de l’exposition \"être & racine\" 
  Chapelle Saint Joseph - LESNEVEN
DESCRIPTION:J'ai le plaisir de vous inviter au vernissage de l’expos
 itionle vendredi 15 juin à 18h30Chapelle Saint-Joseph Place du Châte
 au à Lesneven\nPa railleurs cette exposition est ouverte du 15 au 27 
 juin.Tous les jours de 14h à 18h et le lundi de 10h30 à 12h30.\n\nPo
 ur en savoir plus, rendez-vous sur http://www.breizhbook.com/events/in
 vitation-au-vernissage-de-l-exposition-tre-racine-chapelle
DTSTART;TZID=Europe/Paris:20120615T183000
DTEND;TZID=Europe/Paris:20120615T200000
CATEGORIES:exposition, "être & racine", du, 15, au, 27, "juin.chapell
 e", saint, joseph, à, lesneven
LOCATION:Chapelle Saint-Joseph Place du Château à Lesneven
WEBSITE:
URL:
CONTACT:
ORGANIZER;CN="PIERRE QUENTEL":http://www.breizhbook.com/profile/PIERRE
 QUENTEL
ATTACH;FMTTYPE="image/jpeg":http://storage.ning.com/topology/rest/1.0/
 file/get/3198319697?profile=original
ATTENDEE;ROLE=REQ-PARTICIPANT;PARTSTAT=ACCEPTED;RSVP=TRUE;CN="PIERRE Q
 UENTEL":http://www.breizhbook.com/profile/PIERREQUENTEL
END:VEVENT
END:VCALENDAR
