BEGIN:VCALENDAR
PRODID:NingEventWidget-v1
VERSION:2.0
METHOD:PUBLISH
BEGIN:VTIMEZONE
TZID:Europe/Paris
X-LIC-LOCATION:Europe/Paris
BEGIN:DAYLIGHT
TZOFFSETFROM:+0100
TZOFFSETTO:+0200
TZNAME:CEST
DTSTART:19700329T020000
RRULE:FREQ=YEARLY;BYMONTH=3;BYDAY=-1SU
END:DAYLIGHT
BEGIN:STANDARD
TZOFFSETFROM:+0200
TZOFFSETTO:+0100
TZNAME:CET
DTSTART:19701025T030000
RRULE:FREQ=YEARLY;BYMONTH=10;BYDAY=-1SU
END:STANDARD
END:VTIMEZONE
BEGIN:VEVENT
UID:6339722:Event:128549
DTSTAMP:20260423T164306Z
SUMMARY:Inscriptions ateliers \"Langue et Culture\" dÃ©but septembre
DESCRIPTION:Parmi ses activitÃ©s, la Maison de l'Europe de Brest propo
 se des cours de langue sur l'annÃ©e. Pour connaÃ®tre les cours de lang
 ue disponibles, venez aux portes ouvertes le samedi 8 septembre de 9h 
 Ã  13h Ã  la MEB.\nÂ \nLe samedi 8 septembre de 9h Ã  13h, Ã  la Maiso
 n de l'Europe, les personnes intÃ©ressÃ©es pourront s'informer sur le 
 contenu des cours, Ã©valuer leur niveau et s'inscrire.\nÂ \nLes cours 
 auront lieu de septembre Ã  mai, 1h30 par semaine, soit 39h de formati
 on.\nChaque atelier sera composÃ© de 5 Ã  12 personnes afin que chacun
  se sente libre de sâ€™exprimer au maximum dans la langue et pour que 
 les professeurs sâ€™adaptent aux objectifs de chaque Ã©lÃ¨ve : sâ€™ini
 tier, progresser ou se perfectionner. Les enseignants privilÃ©gieront 
 des mÃ©thodes dâ€™apprentissage interactives (DVD, CD, journaux) et ab
 orderont des sujets dâ€™actualitÃ© du pays.\nÂ \nComme chaque annÃ©eÂ 
 l'anglais, le russe, le polonais et l'italien seront proposÃ©es, mais 
 l'association souhaite Ã©largir l'offre pour l'annÃ©e 2012-2013 avec d
 es langues telles que l'allemand, le norvÃ©gien, l'espagnol,Â etc., so
 us rÃ©serve du nombre de demandes pour une langue et de la disponibili
 tÃ© de professeurs des langues concernÃ©es.\n\nPour plus dâ€™informati
 ons :\nMaison de lâ€™Europe\n16 rue de l'Harteloire\n02 98 46 60 09 â€
 “ europedirect@maisoneurope-brest.eu\nÂ \nL'association sera fermÃ©e d
 u 28 juillet au 19 aoÃ»t, mais n'hÃ©sitez pas Ã  laisser un message ou
  nous envoyer un e-mail et nous vous rÃ©pondrons dÃ¨s notre retour.\n\
 nPour en savoir plus, rendez-vous sur http://www.breizhbook.com/events
 /inscriptions-ateliers-langue-et-culture-d-but-septembre
DTSTART;TZID=Europe/Paris:20120908T090000
DTEND;TZID=Europe/Paris:20120908T130000
CATEGORIES:portes, ouvertes
LOCATION:Maison de l'Europe
WEBSITE:http://www.maisoneurope-brest.eu/
URL:http://www.maisoneurope-brest.eu/
CONTACT:02 98 46 60 09
ORGANIZER;CN="Maison De l'Europe Brest":http://www.breizhbook.com/prof
 ile/MaisonDelEuropeBrest
ATTACH;FMTTYPE="image/jpeg":http://storage.ning.com/topology/rest/1.0/
 file/get/3198322456?profile=original
ATTENDEE;ROLE=REQ-PARTICIPANT;PARTSTAT=ACCEPTED;RSVP=TRUE;CN="Maison D
 e l'Europe Brest":http://www.breizhbook.com/profile/MaisonDelEuropeBre
 st
END:VEVENT
END:VCALENDAR
