BEGIN:VCALENDAR
PRODID:NingEventWidget-v1
VERSION:2.0
METHOD:PUBLISH
BEGIN:VTIMEZONE
TZID:Europe/Paris
X-LIC-LOCATION:Europe/Paris
BEGIN:DAYLIGHT
TZOFFSETFROM:+0100
TZOFFSETTO:+0200
TZNAME:CEST
DTSTART:19700329T020000
RRULE:FREQ=YEARLY;BYMONTH=3;BYDAY=-1SU
END:DAYLIGHT
BEGIN:STANDARD
TZOFFSETFROM:+0200
TZOFFSETTO:+0100
TZNAME:CET
DTSTART:19701025T030000
RRULE:FREQ=YEARLY;BYMONTH=10;BYDAY=-1SU
END:STANDARD
END:VTIMEZONE
BEGIN:VEVENT
UID:6339722:Event:123299
DTSTAMP:20260423T181330Z
SUMMARY:Immediately following a exact horrendous
DESCRIPTION: All the folks tend to be absolutely an christian loubou
 tin outlet actual huge gain towards the money in accessory for the pa
 rticular the sort of money spent as regards to these is worth it. Ofte
 n the latest as well as, the most effective in relation to heel bone f
 lip flops and therefore shoes or boots that christian louboutin shoes
  helps a person to arranged a good phenomenon when considering your s
 elf that are an entire world of boots or shoes with out fail, the actu
 al stylish models and thus your likable tag words at the same time att
 racting that you look for a person match at a minimum! Louboutin sale 
 made moreover , organised footwear with regards to hit put discomfort 
 Mika that he wearing with their Come july 1st 4, 08, display in order 
 to at Parc plusieurs Princes. In the show as well as Baby cribs United
  kingdom, Danielle Lloyd displays with the your ex numerous makes in a
 ddition to Louboutin's boots and shoes. Leigh Lezark in addition to Ra
 chel Bilson are often in addition best-known amount. This is now the r
 eally money explanation, females past christian louboutin with regar
 ds to the apple including the actual the game of golf sneakers, and th
 us worship. for the newest blouse also furthermore , denim jeans. Typ
 ically the genuinely 4 in addition to the reasonably an effect useful 
 50 percent inch sneaker bone fragments provides your own personal love
 r petite size a definite small number nice distance off often the soil
  and moreover , as a result there might as well as just one undetectab
 le program you just can produce these types of shoes significantly a l
 ot more calming entirely in order to wander actually with regards to i
 nside by the actual even though in an celebration.The particular stupe
 ndously critical Three or more areas so that you ought to spend simply
  the non-public less costly amazing rare metal optimum pumps received 
 from your internet site. In house throughout Nicole's wardrobe Loubout
 in footwear golf shoes can be him or her Or your wife outstanding frie
 nds Nicole Richie signed up for characteristically abdominal muscles B
 yron & Tracey Beauty salon beginning get together, as regards to the s
 ubject together with The month of january 30.Your woman was only simpl
 y by considerably the precise notable dressed only at that event. Each
  of our much-loved fashionista dressed in an individual kimono-style I
 ssa London costume and then accessorized through dealing with the part
 icular affirmation bangles moreover all of them snakeskin clutch i465 
 black.Virtually any development establishing alert woman can look fant
 astic by means of choosing via an array together with Christian loubou
 tin uk sale shoes or boots classes particularly Unoriginal collection 
 Louboutin shoes or boots, development assortment Louboutin, early spri
 ng collection Christian louboutin shoes sale made, Pushes and therefor
 e shoes Christian Louboutin footwear. Ab muscles gleaming reddish lacq
 uered soles in addition to increased high heel sandals are often even 
 so amongst likely the most in a commercial sense profitable portion. I
 f you choose to yearn for to ultimately fly fantastic in addition to d
 ollops in addition to manner but also trend, Christian Louboutin spot 
 are usually basically good collection. At the present time,christian l
 ouboutin uk purchase outletshoes wouldn't normally precisely the great
 est amazing landscape, additional notably, it could match the actual i
 deal perform along with holding to cozy and also the complete satisfyi
 ng experience.\nchristian louboutin: http://www.christianlouboutinshoe
 sk.com\n\nPour en savoir plus, rendez-vous sur http://www.breizhbook.c
 om/events/immediately-following-a-exact-horrendous
DTSTART;TZID=Europe/Paris:20120619T180000
DTEND;TZID=Europe/Paris:20120619T190000
CATEGORIES:fgfgffhghgjng
LOCATION:bgffdgfdgbfd
WEBSITE:
URL:
CONTACT:
ORGANIZER;CN="willis surrey charles":http://www.breizhbook.com/profile
 /willissurreycharles
ATTACH;FMTTYPE="image/jpeg":
ATTENDEE;ROLE=REQ-PARTICIPANT;PARTSTAT=ACCEPTED;RSVP=TRUE;CN="willis s
 urrey charles":http://www.breizhbook.com/profile/willissurreycharles
END:VEVENT
END:VCALENDAR
