BEGIN:VCALENDAR
PRODID:NingEventWidget-v1
VERSION:2.0
METHOD:PUBLISH
BEGIN:VTIMEZONE
TZID:Europe/Paris
X-LIC-LOCATION:Europe/Paris
BEGIN:DAYLIGHT
TZOFFSETFROM:+0100
TZOFFSETTO:+0200
TZNAME:CEST
DTSTART:19700329T020000
RRULE:FREQ=YEARLY;BYMONTH=3;BYDAY=-1SU
END:DAYLIGHT
BEGIN:STANDARD
TZOFFSETFROM:+0200
TZOFFSETTO:+0100
TZNAME:CET
DTSTART:19701025T030000
RRULE:FREQ=YEARLY;BYMONTH=10;BYDAY=-1SU
END:STANDARD
END:VTIMEZONE
BEGIN:VEVENT
UID:6339722:Event:143834
DTSTAMP:20260423T163626Z
SUMMARY:...Illustrations pour \"Conte de l'oeil du jour\"...
DESCRIPTION:   \n                         
         ...1er et 4éme de couverture...\n\n\n\n \n\n\nPour en 
 savoir plus, rendez-vous sur http://www.breizhbook.com/events/illustra
 tions-pour-conte-de-l-oeil-du-jour
DTSTART;TZID=Europe/Paris:20121204T180000
DTEND;TZID=Europe/Paris:20131201T190000
CATEGORIES:livres, "contes..."
LOCATION:...en celtie...
WEBSITE:http://bernartkareron.artbook.me/
URL:http://bernartkareron.artbook.me/
CONTACT:
ORGANIZER;CN="Bern Art KaréRon":http://www.breizhbook.com/profile/Ber
 nArtKareRon
ATTACH;FMTTYPE="image/jpeg":
ATTENDEE;ROLE=REQ-PARTICIPANT;PARTSTAT=ACCEPTED;RSVP=TRUE;CN="Bern Art
  KaréRon":http://www.breizhbook.com/profile/BernArtKareRon
END:VEVENT
END:VCALENDAR
