BEGIN:VCALENDAR
PRODID:NingEventWidget-v1
VERSION:2.0
METHOD:PUBLISH
BEGIN:VTIMEZONE
TZID:Europe/Paris
X-LIC-LOCATION:Europe/Paris
BEGIN:DAYLIGHT
TZOFFSETFROM:+0100
TZOFFSETTO:+0200
TZNAME:CEST
DTSTART:19700329T020000
RRULE:FREQ=YEARLY;BYMONTH=3;BYDAY=-1SU
END:DAYLIGHT
BEGIN:STANDARD
TZOFFSETFROM:+0200
TZOFFSETTO:+0100
TZNAME:CET
DTSTART:19701025T030000
RRULE:FREQ=YEARLY;BYMONTH=10;BYDAY=-1SU
END:STANDARD
END:VTIMEZONE
BEGIN:VEVENT
UID:6339722:Event:173777
DTSTAMP:20260423T162849Z
SUMMARY:Hommage à Éliane PRONOST
DESCRIPTION:Organisé par l'association\nGoulven-Découverte, Sentiers
  & Patrimoine\n \nAvec le collectif de sonneurs RE AN ARE et la chant
 euse Anne AUFFRET sous la direction de Georges Cadoudal.\n \nÉliane 
 Pronost\nLa chanteuse bretonnante emblématique du Léon, née le 8 oc
 tobre 1933 à Plounéour-Trez, a passé son enfance et son adolescence
  à Lesneven et fait des études d'infirmière avant d'intégrer, en 1
 957, le service de pédo-psychiatrie de l'hôpital de Rennes. Elle se 
 consacre à sa famille à partir de son mariage en 1959, pour élever 
 ses quatre enfants.\nÉliane Pronost a beaucoup chanté dans le églis
 es durant sa jeunesse et gagné de nombreux prix lors des concours de 
 Bleunn Brug. \"Ses parents parlaient le breton parfaitement et Éliane
  avait une prononciation particulièrement claire\" explique l'abbé R
 oger Abjean. Cette homme de choeur, fondateur de l'ensemble vocal et d
 u Quatuor du Léon, écrit et harmonise les chants de tradition orale 
 qu'interprète la jeune femme. Éliane Pronost et le Quatuor du Léon 
 donnent une trentaine de concerts tous les étés entre 1970 et 2005. 
 \"Elle avait une qualité de voix extraordinaire\", constate Roger Abj
 ean, et elle a chanté jusqu'à ce que la maladie l'en empêche.\nÉli
 ane Pronost a effectué de nombreux enregistrements de chants traditio
 nnels en langue bretonne, pour la radio ou la télévision. La veillé
 e de Noël à l'église Saint Thomas de Landerneau, en 1977, a été d
 iffusée en direct sur France Musique et la messe de minuit à Morlaix
  est passée sur France Culture. Le catalogue de ses enregistrements c
 omprend une douzaine de CD.\n\nPour en savoir plus, rendez-vous sur ht
 tp://www.breizhbook.com/events/hommage-liane-pronost
DTSTART;TZID=Europe/Paris:20130505T153000
DTEND;TZID=Europe/Paris:20130505T170000
CATEGORIES:concert
LOCATION:Église de Goulven
WEBSITE:http://goo.gl/maps/ib0qr
URL:http://goo.gl/maps/ib0qr
CONTACT:
ORGANIZER:Goulven-Découverte, Sentiers & Patrimoine
ATTACH;FMTTYPE="image/jpeg":http://storage.ning.com/topology/rest/1.0/
 file/get/3198353239?profile=original
ATTENDEE;ROLE=REQ-PARTICIPANT;PARTSTAT=ACCEPTED;RSVP=TRUE;CN="Alain Bo
 uquet":http://www.breizhbook.com/profile/AlainBouquet
ATTENDEE;ROLE=REQ-PARTICIPANT;PARTSTAT=TENTATIVE;RSVP=TRUE;CN="ar gov"
 :http://www.breizhbook.com/profile/LEGOFF831
END:VEVENT
END:VCALENDAR
