BEGIN:VCALENDAR
PRODID:NingEventWidget-v1
VERSION:2.0
METHOD:PUBLISH
BEGIN:VTIMEZONE
TZID:Europe/Paris
X-LIC-LOCATION:Europe/Paris
BEGIN:DAYLIGHT
TZOFFSETFROM:+0100
TZOFFSETTO:+0200
TZNAME:CEST
DTSTART:19700329T020000
RRULE:FREQ=YEARLY;BYMONTH=3;BYDAY=-1SU
END:DAYLIGHT
BEGIN:STANDARD
TZOFFSETFROM:+0200
TZOFFSETTO:+0100
TZNAME:CET
DTSTART:19701025T030000
RRULE:FREQ=YEARLY;BYMONTH=10;BYDAY=-1SU
END:STANDARD
END:VTIMEZONE
BEGIN:VEVENT
UID:6339722:Event:113108
DTSTAMP:20260423T163542Z
SUMMARY:HELLFEST 2012
DESCRIPTION: 140 groupes sur 3 jours:\n\nKing Diamond/SLASH / BLACK L
 ABEL SOCIETY / UNISONIC / STREET DOGS / STEEL PANTHER / KOBRA AND THE 
 LOTUS / FORGOTTEN TOMB / AS THEY BURN / STRONG AS TEN/LYNYRD SKYNYRD -
  MACHINE HEADACID KING / ALL PIGS MUST DIE / ALPHA TIGER / AMON AMARTH
  / AUGUST BURNS RED / BETRAYING THE MARTYRS / BLOOD RED THRONE / BRAIN
  POLICE / BRUJERIA / BRUTAL TRUTH / CANNIBAL CORPSE / CHANNEL ZERO / D
 ARKEST HOUR / DEATH ANGEL / DEVIL DRIVER / DJERV / DOG EAT DOG / DO OR
  DIE / DYING FETUS / EMMURE / ENDSTILLE / ENSLAVED / L ESPRIT DU CLAN 
 / EXODUS / EXTINCTION OF A MANKIND / GAMABOMB / GIRLSCHOOL / GLORIOR B
 ELLI / H2O / HOODS / INTEGRITY / LIZZY BORDEN / MADBALL / MERRIMACK / 
 MOLLY HATCHET / NASUM / ORIGIN / PENTAGRAM / SACRED REICH / SAINT VITU
 S / SUICIDAL ANGELS / TAAKE / VOMITORY / WALLS OF JERICHO / WHITECHAPE
 L / YEAR OF NO LIGHT / YOB/MEGADETH, GUNS N ROSES, MOTLEY CRUE, WITHI
 N TEMPTATION, REFUSED, DROPKICK MURPHYS, BIOHAZARD, TURBONEGROABYSSE, 
 ALL SHALL PERISH, ARSON ANTHEM, ASCENSION, BEHEMOTH, BELENOS, BENIGHTE
 D, BIG BUSINESS, BLACK BOMB A, BUKOWSKI, CANCER BATS, CELESTE, D-A-D, 
 DISCHARGE, DOOMRIDERS, EDGUY, ENTOMBED, GOTTHARD, HANK III, HAMLET, HE
 AVEN SHALL BURN, IHSAHN, INSOMNIUM, JESUS CROST, KORITNI, LASTING VALU
 ES, LITURGY, LOCK UP, MOONSORROW, NECROPHAGIA, OBITUARY, OCTOBER FILE,
  SATYRICON, SEBASTIAN BACH, SHINING, SUBLIME CADAVERIC DECOMPOSITION, 
 SUFFOCATION, SUNNO))), THE ATOMIC BITCHWAX, THE BRONX, THE OBSESSED, T
 HE RODEO RIOT ENGINE, TRAGEDY, TREPALIUM, UNEARTH, UNSANE, URIAH HEEP,
  VITAMIN X/LAMB OF GOD - BLUE OYSTER CULT - CHILDREN OF BODOM - TRIVIU
 M – HATEBREED - DIMMU BORGIRABORTED – ALCEST - ALL FOR NOTHING - A
 MENRA - ANAAL NATHRAKH - AOSOTH – ARCTURUS - ASG - AVULSED - BENEDIC
 TION - COLOUR HAZE - CRASHDIET - DARKSPACE - DEATH BEFORE DISHONOR - T
 HE DEVIL'S BLOOD - DISEMBOWELMENT - DYSE - FROM ASHES RISES - HAEMORRH
 AGE - HOUR OF PENANCE - IN EXTREMO - MONKEY 3 - NAPALM DEATH - NECROS 
 CHRISTOS - ORANGE GOBLIN - ORANSSI PAZUZU - ROMPEPROP - SOLSTAFIR - SP
 UDMONSTERS – STRIFE - THOU - UFOMAMMUT - UNEXPECT - VANDERBUYST - VI
 CTIMS - VULTURE INDUSTRIES - WINTERFYLLETH\n\nPour en savoir plus, ren
 dez-vous sur http://www.breizhbook.com/events/hellfest-2012
DTSTART;TZID=Europe/Paris:20120615T100000
DTEND;TZID=Europe/Paris:20120617T120000
CATEGORIES:festival, de, metal
LOCATION:CLISSONS (44)
WEBSITE:http://www.hellfest.fr/
URL:http://www.hellfest.fr/
CONTACT:
ORGANIZER;CN="Klodius Breihz de Kui":http://www.breizhbook.com/profile
 /KlodiusBreihzdeKui
ATTACH;FMTTYPE="image/jpeg":http://storage.ning.com/topology/rest/1.0/
 file/get/3121523616?profile=original
ATTENDEE;ROLE=REQ-PARTICIPANT;PARTSTAT=ACCEPTED;RSVP=TRUE;CN="Klodius 
 Breihz de Kui":http://www.breizhbook.com/profile/KlodiusBreihzdeKui
END:VEVENT
END:VCALENDAR
