BEGIN:VCALENDAR
PRODID:NingEventWidget-v1
VERSION:2.0
METHOD:PUBLISH
BEGIN:VTIMEZONE
TZID:Europe/Paris
X-LIC-LOCATION:Europe/Paris
BEGIN:DAYLIGHT
TZOFFSETFROM:+0100
TZOFFSETTO:+0200
TZNAME:CEST
DTSTART:19700329T020000
RRULE:FREQ=YEARLY;BYMONTH=3;BYDAY=-1SU
END:DAYLIGHT
BEGIN:STANDARD
TZOFFSETFROM:+0200
TZOFFSETTO:+0100
TZNAME:CET
DTSTART:19701025T030000
RRULE:FREQ=YEARLY;BYMONTH=10;BYDAY=-1SU
END:STANDARD
END:VTIMEZONE
BEGIN:VEVENT
UID:6339722:Event:121113
DTSTAMP:20260423T181325Z
SUMMARY:Haymovici Maud
DESCRIPTION:Conférence- dédicace autour de mon livre \" Le dernier c
 ours d'histoire- Ce juif de la France Libre qui aimait tant la Bretagn
 e\"\n Jeudi 7 juin à 20h30, au centre culturel André Neher, Nantes\
 n\nPour en savoir plus, rendez-vous sur http://www.breizhbook.com/even
 ts/haymovici-maud
DTSTART;TZID=Europe/Paris:20120607T180000
DTEND;TZID=Europe/Paris:20120607T190000
CATEGORIES:conférence, et, dédicace
LOCATION:Centre culturel André Neher
WEBSITE:
URL:
CONTACT:
ORGANIZER;CN="Maud Haymovici- Blanc":http://www.breizhbook.com/profile
 /MaudHaymoviciBlanc
ATTACH;FMTTYPE="image/jpeg":
ATTENDEE;ROLE=REQ-PARTICIPANT;PARTSTAT=ACCEPTED;RSVP=TRUE;CN="Maud Hay
 movici- Blanc":http://www.breizhbook.com/profile/MaudHaymoviciBlanc
END:VEVENT
END:VCALENDAR
