BEGIN:VCALENDAR
PRODID:NingEventWidget-v1
VERSION:2.0
METHOD:PUBLISH
BEGIN:VTIMEZONE
TZID:Europe/Paris
X-LIC-LOCATION:Europe/Paris
BEGIN:DAYLIGHT
TZOFFSETFROM:+0100
TZOFFSETTO:+0200
TZNAME:CEST
DTSTART:19700329T020000
RRULE:FREQ=YEARLY;BYMONTH=3;BYDAY=-1SU
END:DAYLIGHT
BEGIN:STANDARD
TZOFFSETFROM:+0200
TZOFFSETTO:+0100
TZNAME:CET
DTSTART:19701025T030000
RRULE:FREQ=YEARLY;BYMONTH=10;BYDAY=-1SU
END:STANDARD
END:VTIMEZONE
BEGIN:VEVENT
UID:6339722:Event:217931
DTSTAMP:20260423T163541Z
SUMMARY:Harmattan
DESCRIPTION:Bar restaurant en PRESQU île de CROZON QUI FAIT DES ÉVÉ
 NEMENTS CHAQUE MOIS\nLE PROCHAIN 14 et15 décembre we blues avec samed
 i soir concert et dimanche après-midi conte musical pour enfants et a
 dultes autour du blues\nTout ceci gratuit mais on peut manger avant en
  réservant ou non dans ce resto tout est maison\nLe 31dec menu et ani
 mation\n\nPour en savoir plus, rendez-vous sur http://www.breizhbook.c
 om/events/harmattan
DTSTART;TZID=Europe/Paris:20131214T090000
DTEND;TZID=Europe/Paris:20131215T050000
CATEGORIES:concert, spectacle
LOCATION:L harmattan
WEBSITE:http://lharmattan-bar.com
URL:http://lharmattan-bar.com
CONTACT:0298276034
ORGANIZER;CN=nivaux:http://www.breizhbook.com/profile/nivaux
ATTACH;FMTTYPE="image/jpeg":
ATTENDEE;ROLE=REQ-PARTICIPANT;PARTSTAT=ACCEPTED;RSVP=TRUE;CN=nivaux:ht
 tp://www.breizhbook.com/profile/nivaux
END:VEVENT
END:VCALENDAR
