BEGIN:VCALENDAR
PRODID:NingEventWidget-v1
VERSION:2.0
METHOD:PUBLISH
BEGIN:VTIMEZONE
TZID:Europe/Paris
X-LIC-LOCATION:Europe/Paris
BEGIN:DAYLIGHT
TZOFFSETFROM:+0100
TZOFFSETTO:+0200
TZNAME:CEST
DTSTART:19700329T020000
RRULE:FREQ=YEARLY;BYMONTH=3;BYDAY=-1SU
END:DAYLIGHT
BEGIN:STANDARD
TZOFFSETFROM:+0200
TZOFFSETTO:+0100
TZNAME:CET
DTSTART:19701025T030000
RRULE:FREQ=YEARLY;BYMONTH=10;BYDAY=-1SU
END:STANDARD
END:VTIMEZONE
BEGIN:VEVENT
UID:6339722:Event:132644
DTSTAMP:20260423T163716Z
SUMMARY:Happening du \"conteur de rue\"
DESCRIPTION:Haperiy de mondd / Happening du \"conteur de rue\", avec l
 a complicité de mon Ordin@teuRàcontes : animation \"contes à la car
 te\"... surprises invitant à me rejoindre l'après-midi pour une séa
 nce de dédicace des \"contes et légendes d'Ille-et-Vilaine\" dans la
  boutique de Myriam Bébin, \"le bazar savant\", 24 rue Baudrairie htt
 p://www.contes-et-merveilles.com/faq.php\n\nPour en savoir plus, rende
 z-vous sur http://www.breizhbook.com/events/happening-du-conteur-de-ru
 e
DTSTART;TZID=Europe/Paris:20121124T103000
DTEND;TZID=Europe/Paris:20121124T120000
CATEGORIES:conte, et, rencontre-dédicace, dédicace
LOCATION:marché
WEBSITE:http://www.contes-et-merveilles.com/agenda.php
URL:http://www.contes-et-merveilles.com/agenda.php
CONTACT:
ORGANIZER;CN=MATHIAS:http://www.breizhbook.com/profile/MATHIAS
ATTACH;FMTTYPE="image/jpeg":http://storage.ning.com/topology/rest/1.0/
 file/get/3198324973?profile=original
ATTENDEE;ROLE=REQ-PARTICIPANT;PARTSTAT=ACCEPTED;RSVP=TRUE;CN=MATHIAS:h
 ttp://www.breizhbook.com/profile/MATHIAS
END:VEVENT
END:VCALENDAR
