BEGIN:VCALENDAR
PRODID:NingEventWidget-v1
VERSION:2.0
METHOD:PUBLISH
BEGIN:VTIMEZONE
TZID:Europe/Paris
X-LIC-LOCATION:Europe/Paris
BEGIN:DAYLIGHT
TZOFFSETFROM:+0100
TZOFFSETTO:+0200
TZNAME:CEST
DTSTART:19700329T020000
RRULE:FREQ=YEARLY;BYMONTH=3;BYDAY=-1SU
END:DAYLIGHT
BEGIN:STANDARD
TZOFFSETFROM:+0200
TZOFFSETTO:+0100
TZNAME:CET
DTSTART:19701025T030000
RRULE:FREQ=YEARLY;BYMONTH=10;BYDAY=-1SU
END:STANDARD
END:VTIMEZONE
BEGIN:VEVENT
UID:6339722:Event:98792
DTSTAMP:20260423T163542Z
SUMMARY:GRAO 2012
DESCRIPTION:\n\n\nPour en savoir plus, rendez-vous sur http://www.brei
 zhbook.com/events/grao-2012
DTSTART;TZID=Europe/Paris:20120414T000000
DTEND;TZID=Europe/Paris:20120415T235900
CATEGORIES:grand, rassemblement, des, astronomes, de, "l'ouest", 2012
LOCATION:Pontivy (56)
WEBSITE:
URL:
CONTACT:
ORGANIZER;CN="Major Kira":http://www.breizhbook.com/profile/majkira
ATTACH;FMTTYPE="image/jpeg":
ATTENDEE;ROLE=REQ-PARTICIPANT;PARTSTAT=ACCEPTED;RSVP=TRUE;CN="Major Ki
 ra":http://www.breizhbook.com/profile/majkira
END:VEVENT
END:VCALENDAR
