BEGIN:VCALENDAR
PRODID:NingEventWidget-v1
VERSION:2.0
METHOD:PUBLISH
BEGIN:VTIMEZONE
TZID:Europe/Paris
X-LIC-LOCATION:Europe/Paris
BEGIN:DAYLIGHT
TZOFFSETFROM:+0100
TZOFFSETTO:+0200
TZNAME:CEST
DTSTART:19700329T020000
RRULE:FREQ=YEARLY;BYMONTH=3;BYDAY=-1SU
END:DAYLIGHT
BEGIN:STANDARD
TZOFFSETFROM:+0200
TZOFFSETTO:+0100
TZNAME:CET
DTSTART:19701025T030000
RRULE:FREQ=YEARLY;BYMONTH=10;BYDAY=-1SU
END:STANDARD
END:VTIMEZONE
BEGIN:VEVENT
UID:6339722:Event:138903
DTSTAMP:20260423T175642Z
SUMMARY:Grève générale Européenne
DESCRIPTION:Le 14 novembre 2012 rassemblement place de la mairie de Re
 nnes à 14h\npas d'heures de fin\nPour dire non à l'austérité, non 
 à l'oligarchie en place\n\nParce-que nous ne devons rien, donc nous n
 e paierons rien !\n\nPour en savoir plus, rendez-vous sur http://www.
 breizhbook.com/events/gr-ve-g-n-rale-europ-enne
DTSTART;TZID=Europe/Paris:20121114T140000
DTEND;TZID=Europe/Paris:20121114T230000
CATEGORIES:manifestation
LOCATION:place de la mairie
WEBSITE:http://goo.gl/maps/IqJnQ
URL:http://goo.gl/maps/IqJnQ
CONTACT:
ORGANIZER;CN="lorin gael":http://www.breizhbook.com/profile/loringael
ATTACH;FMTTYPE="image/jpeg":
ATTENDEE;ROLE=REQ-PARTICIPANT;PARTSTAT=ACCEPTED;RSVP=TRUE;CN="lorin ga
 el":http://www.breizhbook.com/profile/loringael
END:VEVENT
END:VCALENDAR
