BEGIN:VCALENDAR
PRODID:NingEventWidget-v1
VERSION:2.0
METHOD:PUBLISH
BEGIN:VTIMEZONE
TZID:Europe/Paris
X-LIC-LOCATION:Europe/Paris
BEGIN:DAYLIGHT
TZOFFSETFROM:+0100
TZOFFSETTO:+0200
TZNAME:CEST
DTSTART:19700329T020000
RRULE:FREQ=YEARLY;BYMONTH=3;BYDAY=-1SU
END:DAYLIGHT
BEGIN:STANDARD
TZOFFSETFROM:+0200
TZOFFSETTO:+0100
TZNAME:CET
DTSTART:19701025T030000
RRULE:FREQ=YEARLY;BYMONTH=10;BYDAY=-1SU
END:STANDARD
END:VTIMEZONE
BEGIN:VEVENT
UID:6339722:Event:135131
DTSTAMP:20260423T163552Z
SUMMARY:Giganim [SoirÃ©e jeux]
DESCRIPTION:Un nouveau partenariat avec lâ€™Ã©diteur de jeux Gigamic p
 ermet Ã  la Maison du Jeu de proposer un nouveau rendez-vous ludique.\
 nPremiÃ¨re date avec Ã  lâ€™honneur les jeux Stratopolis, Panic Lab, l
 e Manoir des sorciÃ¨res, Qamoki.\nEncore une soirÃ©e ludique propice Ã
   la rencontre, au travers de jeux de sociÃ©tÃ©. Pour les grands, peti
 ts, jeunes ou moins jeunes, c'est un moment convivial de dÃ©tente et d
 e dÃ©couvertes des derniÃ¨res nouveautÃ©s ludiques.\n\nPour en savoir 
 plus, rendez-vous sur http://www.breizhbook.com/events/giganim-soir-e-
 jeux
DTSTART;TZID=Europe/Paris:20121012T183000
DTEND;TZID=Europe/Paris:20121013T010000
CATEGORIES:soirÃ©e, jeux, de, sociÃ©tÃ©
LOCATION:La Maison du Jeu de Bretagne
WEBSITE:https://maps.google.com/maps/myplaces?ll=47.654218,-2.086192&s
 pn=0.012069,0.033023&ctz=-120&t=m&z=16&iwloc=A
URL:https://maps.google.com/maps/myplaces?ll=47.654218,-2.086192&spn=0
 .012069,0.033023&ctz=-120&t=m&z=16&iwloc=A
CONTACT:
ORGANIZER;CN="Ti ar C'hoari Breizh":http://www.breizhbook.com/profile/
 TiarChoariBreizh
ATTACH;FMTTYPE="image/jpeg":http://storage.ning.com/topology/rest/1.0/
 file/get/3198326282?profile=original
ATTENDEE;ROLE=REQ-PARTICIPANT;PARTSTAT=ACCEPTED;RSVP=TRUE;CN="Ti ar C'
 hoari Breizh":http://www.breizhbook.com/profile/TiarChoariBreizh
END:VEVENT
END:VCALENDAR
