BEGIN:VCALENDAR
PRODID:NingEventWidget-v1
VERSION:2.0
METHOD:PUBLISH
BEGIN:VTIMEZONE
TZID:Europe/Paris
X-LIC-LOCATION:Europe/Paris
BEGIN:DAYLIGHT
TZOFFSETFROM:+0100
TZOFFSETTO:+0200
TZNAME:CEST
DTSTART:19700329T020000
RRULE:FREQ=YEARLY;BYMONTH=3;BYDAY=-1SU
END:DAYLIGHT
BEGIN:STANDARD
TZOFFSETFROM:+0200
TZOFFSETTO:+0100
TZNAME:CET
DTSTART:19701025T030000
RRULE:FREQ=YEARLY;BYMONTH=10;BYDAY=-1SU
END:STANDARD
END:VTIMEZONE
BEGIN:VEVENT
UID:6339722:Event:133058
DTSTAMP:20260423T161657Z
SUMMARY:Getting these celebrity sunglasses are now available at afford
 ableprice
DESCRIPTION:Fashion is starting to be very important for a lot of peop
 lethese days. It is now noticeable howmany people are doing their best
  in order to find their personal style. Whether they will be in clothi
 ng or otheraccessories, they are looking for the right items that they
  can match witheverything they put on. The good thingthese days is tha
 t the popularity of wholesale clothing made people havequality yet aff
 ordable items like wholesale sunglasses, which are very in theworld of
  fashion as accessories.\n\nYou will now find a lot of wholesale sungl
 asses in themarket offered in different collections. One of the sungla
 sses collections they showcase in their stores are thecelebrity collec
 tions. If you are notaware of this collection, this doesn't necessaril
 y mean that they are made bycelebrities but they are the styles made p
 opular by them. These shadesoakley jawbone review look good on them a
 nd may alsolook great on other regular consumers.\n\nBut upon hearing 
 this term, you may think what these celebritysunglasses are? What are 
 the styles thatmade them the top choice among celebrity wardrobe styli
 sts and celebritiesthemselves? The following are some ofthe designs th
 at have been considered as the known celebrity sunglasses styles.\n\nF
 irst of all, celebrities are all about setting theirpersonal style. Th
 is means that nomatter what type of sunglasses they are, they will wea
 r it in order to make astatement on their style. This is whymany of th
 ese celebrities would choose retro sunglasses as part of theirapparel.
  There was a time in fashionwhen small frames on sunglasses were the h
 ot items in the market but nowadaysthey find beauty in large retro sun
 glasses. The frames of these sunglasses were made of thicker plastic a
 nd theyhave wide round-like lenses that will really make a statement.\
 n\nThe next types of sunglasses worn by these celebrities arethe sungl
 asses that have large rectangular frames and lenses. They also have pl
 astic frames but with muchthicker sides. These sunglasses also comein 
 different designs because they can now have rhinestones along the fram
 es asadditional suitable for women. This typeof sunglasses also will b
 e good accessories to be used by celebrities who wouldlike to set thei
 r style.\n\nFinally, there are the aviator sunglasses perfect formen. 
 Although there are lots of guys whoare already into retro sunglasses b
 ut the standard sunglasses worn by theseguys are the aviators because 
 of their masculine look. They have thin frames but with widelenses. Th
 e good thing about theselenses is that it can give them confidence whe
 n it comes to their apparel. These aviators' lenses also come in diffe
 rentshades to meet their eye protection and style needs.\n\nGetting th
 ese celebrity sunglasses are now available at affordableprice and can 
 perfectly match your wholesale clothing. This will help you have high 
 fashion styleslike celebrities without spending too much money. They c
 ome in different styles and colors tosuit what your fashion mood is or
  preference.\n\nPour en savoir plus, rendez-vous sur http://www.breizh
 book.com/events/getting-these-celebrity-sunglasses-are-now-available-a
 t
DTSTART;TZID=Europe/Paris:20120920T180000
DTEND;TZID=Europe/Paris:20120920T190000
CATEGORIES:birthday, party
LOCATION:厄立特里亚
WEBSITE:
URL:
CONTACT:
ORGANIZER;CN="willis surrey charles":http://www.breizhbook.com/profile
 /willissurreycharles
ATTACH;FMTTYPE="image/jpeg":
ATTENDEE;ROLE=REQ-PARTICIPANT;PARTSTAT=ACCEPTED;RSVP=TRUE;CN="willis s
 urrey charles":http://www.breizhbook.com/profile/willissurreycharles
END:VEVENT
END:VCALENDAR
