BEGIN:VCALENDAR
PRODID:NingEventWidget-v1
VERSION:2.0
METHOD:PUBLISH
BEGIN:VTIMEZONE
TZID:Europe/Paris
X-LIC-LOCATION:Europe/Paris
BEGIN:DAYLIGHT
TZOFFSETFROM:+0100
TZOFFSETTO:+0200
TZNAME:CEST
DTSTART:19700329T020000
RRULE:FREQ=YEARLY;BYMONTH=3;BYDAY=-1SU
END:DAYLIGHT
BEGIN:STANDARD
TZOFFSETFROM:+0200
TZOFFSETTO:+0100
TZNAME:CET
DTSTART:19701025T030000
RRULE:FREQ=YEARLY;BYMONTH=10;BYDAY=-1SU
END:STANDARD
END:VTIMEZONE
BEGIN:VEVENT
UID:6339722:Event:133012
DTSTAMP:20260423T163541Z
SUMMARY:gautier
DESCRIPTION:fest  noz  13  octobre  2012   l'orangerie  a  21 
 heures   3510  chateaugiron   musiciens  sonerien  du   venez
   nombreux  danser  pour  la  bretagne  merci\n\nPour en savoir 
 plus, rendez-vous sur http://www.breizhbook.com/events/gautier
DTSTART;TZID=Europe/Paris:20121013T210000
DTEND;TZID=Europe/Paris:20121014T020000
CATEGORIES:fest, noz
LOCATION:l'orangerie
WEBSITE:http://christophe-gautier35@orange.fr
URL:http://christophe-gautier35@orange.fr
CONTACT:
ORGANIZER;CN=gautier:http://www.breizhbook.com/profile/gautier323
ATTACH;FMTTYPE="image/jpeg":
ATTENDEE;ROLE=REQ-PARTICIPANT;PARTSTAT=ACCEPTED;RSVP=TRUE;CN=gautier:h
 ttp://www.breizhbook.com/profile/gautier323
END:VEVENT
END:VCALENDAR
