BEGIN:VCALENDAR
PRODID:NingEventWidget-v1
VERSION:2.0
METHOD:PUBLISH
BEGIN:VTIMEZONE
TZID:Europe/Paris
X-LIC-LOCATION:Europe/Paris
BEGIN:DAYLIGHT
TZOFFSETFROM:+0100
TZOFFSETTO:+0200
TZNAME:CEST
DTSTART:19700329T020000
RRULE:FREQ=YEARLY;BYMONTH=3;BYDAY=-1SU
END:DAYLIGHT
BEGIN:STANDARD
TZOFFSETFROM:+0200
TZOFFSETTO:+0100
TZNAME:CET
DTSTART:19701025T030000
RRULE:FREQ=YEARLY;BYMONTH=10;BYDAY=-1SU
END:STANDARD
END:VTIMEZONE
BEGIN:VEVENT
UID:6339722:Event:194007
DTSTAMP:20260423T161040Z
SUMMARY:Galops du coeur
DESCRIPTION:A Lanrodec (22) comme chaque année au mois d'aout, l'asso
 ciation \"Les galops du cœur\" organise des randonnées attelage et c
 avaliers .Cette journée, couplée avec des épreuves de concours  d'
 attelage est destinée à recueillir des fonds qui aideront les petit
 s malades hospitalisés en Bretagne et plus globalement pour la cause 
 de l'enfance dans le monde.\nToutes les infos sur le site :\nhttp://ww
 w.lesgalopsducoeur.ffe.com/\n\n\n\nPour en savoir plus, rendez-vous su
 r http://www.breizhbook.com/events/galops-du-coeur
DTSTART;TZID=Europe/Paris:20130803T200000
DTEND;TZID=Europe/Paris:20130804T190000
CATEGORIES:collecte, de, fonds
LOCATION:Site de KERPRIN
WEBSITE:http://www.lesgalopsducoeur.ffe.com/
URL:http://www.lesgalopsducoeur.ffe.com/
CONTACT:
ORGANIZER:Association galops du coeur
ATTACH;FMTTYPE="image/jpeg":
ATTENDEE;ROLE=REQ-PARTICIPANT;PARTSTAT=ACCEPTED;RSVP=TRUE;CN=Prothais:
 http://www.breizhbook.com/profile/Prothais
END:VEVENT
END:VCALENDAR
