BEGIN:VCALENDAR
PRODID:NingEventWidget-v1
VERSION:2.0
METHOD:PUBLISH
BEGIN:VTIMEZONE
TZID:Europe/Paris
X-LIC-LOCATION:Europe/Paris
BEGIN:DAYLIGHT
TZOFFSETFROM:+0100
TZOFFSETTO:+0200
TZNAME:CEST
DTSTART:19700329T020000
RRULE:FREQ=YEARLY;BYMONTH=3;BYDAY=-1SU
END:DAYLIGHT
BEGIN:STANDARD
TZOFFSETFROM:+0200
TZOFFSETTO:+0100
TZNAME:CET
DTSTART:19701025T030000
RRULE:FREQ=YEARLY;BYMONTH=10;BYDAY=-1SU
END:STANDARD
END:VTIMEZONE
BEGIN:VEVENT
UID:6339722:Event:134285
DTSTAMP:20260423T163753Z
SUMMARY:Gala des Mines de Nantes
DESCRIPTION:Le Gala de l'Ecole des Mines de Nantes se dÃ©roulera sur l
 e site de la Chantrerie au sein de lâ€™Ã‰cole, qui revÃªtira pourlâ€™o
 ccasion son plus beau costume.\nPrÃ¨s de 2000 acteurs sont attendus po
 ur rendreinoubliable cette soirÃ©e placÃ©e sous le signe du cinÃ©ma et
  des films de lÃ©gende!Cette annÃ©e, le Gala vous fera revivre les plu
 s grands films de lâ€™histoire du cinÃ©ma. Ã€ lâ€™occasion du dÃ©filÃ©
 , vous pourrez rencontrer les personnages mythiques de ces films.\nTou
 t au long de la soirÃ©e, chacun pourra dÃ©couvrir les diffÃ©rents bars
  Ã  thÃ¨me et apprÃ©cier leurs dÃ©cors qui les transporteront dans lâ€
 ™univers des plus grands films.Le Gala fera de cette journÃ©e un Ã©vÃ©
 nement majeur puisquâ€™il accueillera en exclusivitÃ©, le cÃ©lÃ¨bre DJ
  Ã‰tienne de CrÃ©cy qui rÃ©alisera un set enflammÃ© sur la grande scÃ¨
 ne. Dans untout autre registre, le groupe The Elderberries apportera s
 a touche rock. Et la soirÃ©e sera ouverte par les quatre nantais du gr
 oupe Marquees.\nEnfin pour ceux qui auront encore les yeux ouverts, un
  Tonus donnera les derniÃ¨res vibrations de cette soirÃ©e haute en cou
 leurs !\nRÃ©servez dâ€™ores et dÃ©jÃ  votre soirÃ©e en ligne sur www.g
 aladesmines.com! Des Wonderbox sont Ã  gagner pour les participants!\n
 \nPour en savoir plus, rendez-vous sur http://www.breizhbook.com/event
 s/gala-des-mines-de-nantes
DTSTART;TZID=Europe/Paris:20121012T220000
DTEND;TZID=Europe/Paris:20121013T060000
CATEGORIES:gala
LOCATION:Ecole des Mines de Nantes
WEBSITE:http://galadesmines.com/
URL:http://galadesmines.com/
CONTACT:0661743690
ORGANIZER;CN=GalaDesMines2012:http://www.breizhbook.com/profile/GalaDe
 sMines2012
ATTACH;FMTTYPE="image/jpeg":http://storage.ning.com/topology/rest/1.0/
 file/get/3198326031?profile=original
ATTENDEE;ROLE=REQ-PARTICIPANT;PARTSTAT=ACCEPTED;RSVP=TRUE;CN="MERCIER 
 Morgane":http://www.breizhbook.com/profile/MERCIERMorgane
ATTENDEE;ROLE=REQ-PARTICIPANT;PARTSTAT=ACCEPTED;RSVP=TRUE;CN=GalaDesMi
 nes2012:http://www.breizhbook.com/profile/GalaDesMines2012
END:VEVENT
END:VCALENDAR
