BEGIN:VCALENDAR
PRODID:NingEventWidget-v1
VERSION:2.0
METHOD:PUBLISH
BEGIN:VTIMEZONE
TZID:Europe/Paris
X-LIC-LOCATION:Europe/Paris
BEGIN:DAYLIGHT
TZOFFSETFROM:+0100
TZOFFSETTO:+0200
TZNAME:CEST
DTSTART:19700329T020000
RRULE:FREQ=YEARLY;BYMONTH=3;BYDAY=-1SU
END:DAYLIGHT
BEGIN:STANDARD
TZOFFSETFROM:+0200
TZOFFSETTO:+0100
TZNAME:CET
DTSTART:19701025T030000
RRULE:FREQ=YEARLY;BYMONTH=10;BYDAY=-1SU
END:STANDARD
END:VTIMEZONE
BEGIN:VEVENT
UID:6339722:Event:117716
DTSTAMP:20260423T161958Z
SUMMARY:Formation \"Initation à l'Art du Toucher\"
DESCRIPTION:Développer sa qualité d'Être et de Présence à l'Autre
 \nCette formation est le premier niveau de la formation à l'Art du To
 ucher.\nElle s’adresse aux personnes souhaitant acquérir un Toucher
  juste qui repose sur une qualité d'être indispensable : Présence, 
 Attention, Intention.\nA l'issue de ce stage, les personnes connaitron
 t les manœuvres de base du modelage du corps.\nUne journée de superv
 ision (évaluation avec attestation à la clé) après plusieurs mois 
 de pratique permettra à l'élève de valider ses acquis et de poursui
 vre sa formation sur l'Art du Toucher.\nContenu de la formation (sur 2
  jours) :\n\nApproche théorique du modelage corporel : éthique, enje
 ux du modelage corporel, effets du modelage, les principales manœuvre
 s...\nGymnastique préparatoire : déverrouiller son corps, se centrer
 , se relier...\nModelage dans l'argile comme préalable au toucher cor
 porel.\nPratique du modelage corporel (en binôme) : modelage du dos, 
 des jambes, de la tête...\nBilan.\n\nCette formation donne les bases 
 théoriques et privilégie ensuite une place importante à la pratique
  et aux exercices afin de développer les facultés et qualités requi
 ses.\nLes stagiaires doivent apporter leur huile de massage, 2 draps d
 e bain et 1 couverture pour les exercices pratiques.\nDates et lieux\n
 \nles 23 et 24 juin 2012 à Betton près de Rennes (35)\n\nNombre de p
 articipants\n\nlimité à 4 personnes\n\nTarifs\n\n260 euros personne 
 (repas non compris)\n\n\nPour en savoir plus, rendez-vous sur http://w
 ww.breizhbook.com/events/formation-initation-l-art-du-toucher
DTSTART;TZID=Europe/Paris:20120623T093000
DTEND;TZID=Europe/Paris:20120624T170000
CATEGORIES:stage, de, formation
LOCATION:Remplissage
WEBSITE:http://naturopathie-santeonaturel.fr
URL:http://naturopathie-santeonaturel.fr
CONTACT:06.76.51.71.98
ORGANIZER;CN="Laura LEFEBVRE":http://www.breizhbook.com/profile/LauraL
 EFEBVRE
ATTACH;FMTTYPE="image/jpeg":http://storage.ning.com/topology/rest/1.0/
 file/get/3198315820?profile=original
ATTENDEE;ROLE=REQ-PARTICIPANT;PARTSTAT=ACCEPTED;RSVP=TRUE;CN="Laura LE
 FEBVRE":http://www.breizhbook.com/profile/LauraLEFEBVRE
END:VEVENT
END:VCALENDAR
