BEGIN:VCALENDAR
PRODID:NingEventWidget-v1
VERSION:2.0
METHOD:PUBLISH
BEGIN:VTIMEZONE
TZID:Europe/Paris
X-LIC-LOCATION:Europe/Paris
BEGIN:DAYLIGHT
TZOFFSETFROM:+0100
TZOFFSETTO:+0200
TZNAME:CEST
DTSTART:19700329T020000
RRULE:FREQ=YEARLY;BYMONTH=3;BYDAY=-1SU
END:DAYLIGHT
BEGIN:STANDARD
TZOFFSETFROM:+0200
TZOFFSETTO:+0100
TZNAME:CET
DTSTART:19701025T030000
RRULE:FREQ=YEARLY;BYMONTH=10;BYDAY=-1SU
END:STANDARD
END:VTIMEZONE
BEGIN:VEVENT
UID:6339722:Event:177000
DTSTAMP:20260423T175642Z
SUMMARY:Foire aux plantes et ses accessoires
DESCRIPTION:Foire aux plantes et ses acessoires organisée par les ass
 ociation Les P'tites Boutures et Bann'Anim dimanche 12 mai , salle de 
 loisir route de Quimperlé à BANNALEC.\nParticipation de professionel
  et d'amateurs du jardin,déco,confitures...\nENTREE 1€\nRecette pou
 r le service pédiatrique de LAENNEC de QUIMPER, pour les animations.\
 n \n\nPour en savoir plus, rendez-vous sur http://www.breizhbook.com/
 events/foire-aux-plantes-et-ses-accessoires
DTSTART;TZID=Europe/Paris:20130512T000000
DTEND;TZID=Europe/Paris:20130512T235900
CATEGORIES:collecte, de, fonds
LOCATION:Salle de loisirs , route de Quimperlé ( terrain de foot)
WEBSITE:
URL:
CONTACT:06 65 44 62 59
ORGANIZER;CN="Bruno Furic":http://www.breizhbook.com/profile/BrunoFuri
 c
ATTACH;FMTTYPE="image/jpeg":http://storage.ning.com/topology/rest/1.0/
 file/get/3198355085?profile=original
ATTENDEE;ROLE=REQ-PARTICIPANT;PARTSTAT=ACCEPTED;RSVP=TRUE;CN="Bruno Fu
 ric":http://www.breizhbook.com/profile/BrunoFuric
END:VEVENT
END:VCALENDAR
