BEGIN:VCALENDAR
PRODID:NingEventWidget-v1
VERSION:2.0
METHOD:PUBLISH
BEGIN:VTIMEZONE
TZID:Europe/Paris
X-LIC-LOCATION:Europe/Paris
BEGIN:DAYLIGHT
TZOFFSETFROM:+0100
TZOFFSETTO:+0200
TZNAME:CEST
DTSTART:19700329T020000
RRULE:FREQ=YEARLY;BYMONTH=3;BYDAY=-1SU
END:DAYLIGHT
BEGIN:STANDARD
TZOFFSETFROM:+0200
TZOFFSETTO:+0100
TZNAME:CET
DTSTART:19701025T030000
RRULE:FREQ=YEARLY;BYMONTH=10;BYDAY=-1SU
END:STANDARD
END:VTIMEZONE
BEGIN:VEVENT
UID:6339722:Event:179539
DTSTAMP:20260423T181323Z
SUMMARY:FETE DU NAUTISME
DESCRIPTION:baptême gratuit de 30mn en voile et en kayak\nlocation ka
 yak, dériveur, catamaran, stand up paddle et cours particulier à -50
 %\n\nPour en savoir plus, rendez-vous sur http://www.breizhbook.com/ev
 ents/fete-du-nautisme
DTSTART;TZID=Europe/Paris:20130525T000000
DTEND;TZID=Europe/Paris:20130526T235900
CATEGORIES:fête
LOCATION:plage St Nicolas, Port Manec'h, Névez
WEBSITE:
URL:
CONTACT:
ORGANIZER;CN="Cardinale Sud":http://www.breizhbook.com/profile/Cardina
 leSud
ATTACH;FMTTYPE="image/jpeg":http://storage.ning.com/topology/rest/1.0/
 file/get/3198355576?profile=original
ATTENDEE;ROLE=REQ-PARTICIPANT;PARTSTAT=ACCEPTED;RSVP=TRUE;CN="Cardinal
 e Sud":http://www.breizhbook.com/profile/CardinaleSud
END:VEVENT
END:VCALENDAR
