BEGIN:VCALENDAR
PRODID:NingEventWidget-v1
VERSION:2.0
METHOD:PUBLISH
BEGIN:VTIMEZONE
TZID:Europe/Paris
X-LIC-LOCATION:Europe/Paris
BEGIN:DAYLIGHT
TZOFFSETFROM:+0100
TZOFFSETTO:+0200
TZNAME:CEST
DTSTART:19700329T020000
RRULE:FREQ=YEARLY;BYMONTH=3;BYDAY=-1SU
END:DAYLIGHT
BEGIN:STANDARD
TZOFFSETFROM:+0200
TZOFFSETTO:+0100
TZNAME:CET
DTSTART:19701025T030000
RRULE:FREQ=YEARLY;BYMONTH=10;BYDAY=-1SU
END:STANDARD
END:VTIMEZONE
BEGIN:VEVENT
UID:6339722:Event:120665
DTSTAMP:20260423T162247Z
SUMMARY:Fete de la Bretagne Ã  PARIS 15 les 26 et 27 MAI.
DESCRIPTION:Exposition des 35 menhirs de la Menhir Parade 2012,\nconce
 rts gratuits les 2 jours, un salon de la Bretagne (entrÃ©e libre), des
  dÃ©dicaces signatures et diverses animations dans le XVe avec les com
 merces.\nSamedi prochain Ã  partir de 11 h 30, pas moins de 120 partic
 ipants vont se prÃ©senter sur la rue Lecourbe dans le XVe arrondisseme
 nt. Ils chemineront en dansant sur la rue Lecourbe depuis le mÃ©tro SÃ
 ¨vres-Lecourbe (bd Pasteur) jusqu'Ã  la mairie du XVe arrondissement e
 n prÃ©sentant leurs danses et costumes. Le\nBagad Keriz ouvrira le dÃ©
 filÃ© puis ce sont\nles cercles de Kendalc'h de la rÃ©gion parisienne 
 avec leurs musiciens qui, durant prÃ¨s d'une heure, vous offriront un 
 spectacle de danse dans de chatoyants costumes.\nMibien ar Mor en cost
 umes de la presqu'Ã®le de Rhuys,\nKoroll en costumes de Quimper,\nKorn
 og war Raog en costumes de Vannes-Auray,\nAr Seiz avel, en costumes de
  Plougastel-Daoulas. Ils seront accueillis Ã  partir de 12 h 30 sur l'
 esplanade de la Mairie, 31 rue PÃ©clet, par\nNolwenn Leroy qui inaugur
 era ensuite la fÃªte de deux jours et ses expositions des Menhirs, de 
 photos et le\nDolmen en Kouign Amann.\nLes temps forts:\nSi les deux j
 ournÃ©es sont marquÃ©es cette annÃ©e par l'exposition des 35 menhirs d
 e la Menhir parade, et celle du Dolmen en Kouign Amann, et par le nomb
 re des exposants rÃ©unis, il y aura des moments privilÃ©giÃ©s. Ainsi Ã
   l'arrivÃ©e du\ndÃ©filÃ© sur la place de la mairie aprÃ¨s qu'il aura 
 parcouru la rue Lecourbe depuis le boulevard Pasteur, l'inauguration d
 e la FÃªte en constitue un premier le samedi, entre 12 h 30 et 13 h. L
 e concert de\nBreizh Amazir en fin d'aprÃ¨s midi oÃ¹ musique bretonne 
 et musique berbÃ¨re se fondent, en reprÃ©sente un second.\nLe dimanche
  sera quant Ã  lui marquÃ© par la dÃ©gustation du Dolmen et par le con
 cert de\nGwennyn, la chanteuse finistÃ©rienne, qui a Ã©tÃ© distinguÃ©e
  cette annÃ©e par le grand prix du disque du TÃ©lÃ©gramme.\nVoir le si
 te de Paris-Breton pour plus d'infos...\n\nPour en savoir plus, rendez
 -vous sur http://www.breizhbook.com/events/fete-de-la-bretagne-paris-1
 5-les-26-et-27-mai
DTSTART;TZID=Europe/Paris:20120526T000000
DTEND;TZID=Europe/Paris:20120527T235900
CATEGORIES:gouel, breizh, Ã , paris
LOCATION:Esplanade de la mairie PARIS 15
WEBSITE:http://www.parisbreton.org
URL:http://www.parisbreton.org
CONTACT:
ORGANIZER:PARIS BRETON
ATTACH;FMTTYPE="image/jpeg":http://storage.ning.com/topology/rest/1.0/
 file/get/3198318147?profile=original
ATTENDEE;ROLE=REQ-PARTICIPANT;PARTSTAT=ACCEPTED;RSVP=TRUE;CN="Eric Lel
 eu":http://www.breizhbook.com/profile/EricLeleu
END:VEVENT
END:VCALENDAR
