BEGIN:VCALENDAR
PRODID:NingEventWidget-v1
VERSION:2.0
METHOD:PUBLISH
BEGIN:VTIMEZONE
TZID:Europe/Paris
X-LIC-LOCATION:Europe/Paris
BEGIN:DAYLIGHT
TZOFFSETFROM:+0100
TZOFFSETTO:+0200
TZNAME:CEST
DTSTART:19700329T020000
RRULE:FREQ=YEARLY;BYMONTH=3;BYDAY=-1SU
END:DAYLIGHT
BEGIN:STANDARD
TZOFFSETFROM:+0200
TZOFFSETTO:+0100
TZNAME:CET
DTSTART:19701025T030000
RRULE:FREQ=YEARLY;BYMONTH=10;BYDAY=-1SU
END:STANDARD
END:VTIMEZONE
BEGIN:VEVENT
UID:6339722:Event:131832
DTSTAMP:20260423T133511Z
SUMMARY:festival Mill Góll, le gallo dans tous ses états
DESCRIPTION:10 éme anniversaire du festival.\n15 jours pour causer ga
 llo, et en entendre au travers de contes, chants, visites bilingues, i
 nitiations, danser en riguedao ou festoù-noz, formation sur la revita
 lisation d'une langue, jeux linguistiques......\n15 jours d'animations
  pour la famille, entre amis, dans la campagne rennaise ou en ville.\n
 \nToute la programmation sur www.bertaeyn-galeizz.com\n\nPour en savoi
 r plus, rendez-vous sur http://www.breizhbook.com/events/festival-mill
 -g-ll-le-gallo-dans-tous-ses-tats
DTSTART;TZID=Europe/Paris:20120914T200000
DTEND;TZID=Europe/Paris:20120929T140000
CATEGORIES:festival, de, cultur, gallèse
LOCATION:rennes et les communes environnantes
WEBSITE:http://www.bertaeyn-galeizz.com/mill_goll_accueil.html
URL:http://www.bertaeyn-galeizz.com/mill_goll_accueil.html
CONTACT:02.99.38.97.65
ORGANIZER;CN="bertaeyn galeizz":http://www.breizhbook.com/profile/bert
 aeyngaleizz
ATTACH;FMTTYPE="image/jpeg":http://storage.ning.com/topology/rest/1.0/
 file/get/3198324524?profile=original
ATTENDEE;ROLE=REQ-PARTICIPANT;PARTSTAT=ACCEPTED;RSVP=TRUE;CN="bertaeyn
  galeizz":http://www.breizhbook.com/profile/bertaeyngaleizz
END:VEVENT
END:VCALENDAR
