BEGIN:VCALENDAR
PRODID:NingEventWidget-v1
VERSION:2.0
METHOD:PUBLISH
BEGIN:VTIMEZONE
TZID:Europe/Paris
X-LIC-LOCATION:Europe/Paris
BEGIN:DAYLIGHT
TZOFFSETFROM:+0100
TZOFFSETTO:+0200
TZNAME:CEST
DTSTART:19700329T020000
RRULE:FREQ=YEARLY;BYMONTH=3;BYDAY=-1SU
END:DAYLIGHT
BEGIN:STANDARD
TZOFFSETFROM:+0200
TZOFFSETTO:+0100
TZNAME:CET
DTSTART:19701025T030000
RRULE:FREQ=YEARLY;BYMONTH=10;BYDAY=-1SU
END:STANDARD
END:VTIMEZONE
BEGIN:VEVENT
UID:6339722:Event:190341
DTSTAMP:20260423T164555Z
SUMMARY:Festival Ludique EURopéen
DESCRIPTION:Le Festival Ludique EURopéen donnera une coloration ludiq
 ue à l'ensemble du territoire du Pays de Redon Bretagne Sud, dont le 
 cœur du festival se déroule à Redon, sur le site de la Croix des Ma
 rins.\nAvec au programme :\n\nDes espaces à jouer\n\nDes tournois\n\
 nDes animations\n\nDes expositions\n\nDes spectacles\n\nDes concerts\n
 \n\n\nSur près de 6 000 m² d'espace extérieurs et couverts, venez 
 à la rencontre d'auteurs, d'éditeurs et d'animateurs passionnés qui
  vous feront jouer à des centaines de jeux originaux, traditionnels o
 u contemporains, vous initier à diverses stratégies, démontrer votr
 e adresse ou encore participer à de palpitants tournois.\n\nDes enfan
 ts en bas- âges aux seniors, que vous soyez néophyte ou joueur con
 firmé, seul, à deux, en famille ou entre amis, vous pourrez profit
 er d’une ambiance conviviale et du simple plaisir de jouer.\n\nEntr
 ée libre et gratuite sur tous les espaces de jeux, animations et expo
 sitions\nTournois et spectacles payants\n\n+ d'infos : www.festival-l
 udique.eu\n\n\n\nPour en savoir plus, rendez-vous sur http://www.breiz
 hbook.com/events/festival-ludique-europ-en
DTSTART;TZID=Europe/Paris:20130819T140000
DTEND;TZID=Europe/Paris:20130825T190000
CATEGORIES:festival, ludique
LOCATION:Site de la Croix des Marins
WEBSITE:https://maps.google.com/maps/ms?msid=214216642987710022274.000
 4d85b2acf161ea52e9&msa=0
URL:https://maps.google.com/maps/ms?msid=214216642987710022274.0004d85
 b2acf161ea52e9&msa=0
CONTACT:06 37 56 78 53
ORGANIZER:La Maison du Jeu de Bretagne
ATTACH;FMTTYPE="image/jpeg":http://storage.ning.com/topology/rest/1.0/
 file/get/3198357377?profile=original
ATTENDEE;ROLE=REQ-PARTICIPANT;PARTSTAT=ACCEPTED;RSVP=TRUE;CN="Ti ar C'
 hoari Breizh":http://www.breizhbook.com/profile/TiarChoariBreizh
END:VEVENT
END:VCALENDAR
