BEGIN:VCALENDAR
PRODID:NingEventWidget-v1
VERSION:2.0
METHOD:PUBLISH
BEGIN:VTIMEZONE
TZID:Europe/Paris
X-LIC-LOCATION:Europe/Paris
BEGIN:DAYLIGHT
TZOFFSETFROM:+0100
TZOFFSETTO:+0200
TZNAME:CEST
DTSTART:19700329T020000
RRULE:FREQ=YEARLY;BYMONTH=3;BYDAY=-1SU
END:DAYLIGHT
BEGIN:STANDARD
TZOFFSETFROM:+0200
TZOFFSETTO:+0100
TZNAME:CET
DTSTART:19701025T030000
RRULE:FREQ=YEARLY;BYMONTH=10;BYDAY=-1SU
END:STANDARD
END:VTIMEZONE
BEGIN:VEVENT
UID:6339722:Event:123447
DTSTAMP:20260423T181820Z
SUMMARY:Festival \"les pieds dans la vase\"
DESCRIPTION:Déjà 5 ans, 5 ans que Kervignac (56) offre à la Bretagn
 e un festival digne de ce nom. \nDifférents groupes seront la tout c
 e week end pour vous.\nPlus d'info :\nhttp://blogarvro.blogspot.fr/201
 2/06/festival-les-pieds-dans-la-vase.html\nou \nhttp://www.facebook.c
 om/Blogarvro\n\n\n\nPour en savoir plus, rendez-vous sur http://www.br
 eizhbook.com/events/festival-les-pieds-dans-la-vase
DTSTART;TZID=Europe/Paris:20120616T000000
DTEND;TZID=Europe/Paris:20120617T235900
CATEGORIES:festival
LOCATION:Kervignac
WEBSITE:http://blogarvro.blogspot.fr/2012/06/festival-les-pieds-dans-l
 a-vase.html
URL:http://blogarvro.blogspot.fr/2012/06/festival-les-pieds-dans-la-va
 se.html
CONTACT:
ORGANIZER:
ATTACH;FMTTYPE="image/jpeg":
ATTENDEE;ROLE=REQ-PARTICIPANT;PARTSTAT=ACCEPTED;RSVP=TRUE;CN=Billigrad
 io:http://www.breizhbook.com/profile/Billigradio
END:VEVENT
END:VCALENDAR
