BEGIN:VCALENDAR
PRODID:NingEventWidget-v1
VERSION:2.0
METHOD:PUBLISH
BEGIN:VTIMEZONE
TZID:Europe/Paris
X-LIC-LOCATION:Europe/Paris
BEGIN:DAYLIGHT
TZOFFSETFROM:+0100
TZOFFSETTO:+0200
TZNAME:CEST
DTSTART:19700329T020000
RRULE:FREQ=YEARLY;BYMONTH=3;BYDAY=-1SU
END:DAYLIGHT
BEGIN:STANDARD
TZOFFSETFROM:+0200
TZOFFSETTO:+0100
TZNAME:CET
DTSTART:19701025T030000
RRULE:FREQ=YEARLY;BYMONTH=10;BYDAY=-1SU
END:STANDARD
END:VTIMEZONE
BEGIN:VEVENT
UID:6339722:Event:151112
DTSTAMP:20260423T163852Z
SUMMARY:Festival l'arbre qui marche
DESCRIPTION:Festival de musiques et pratiques Traditionnelles sans alc
 ool à Botmeur du 16 au 18 Aout 2013\n\nPour en savoir plus, rendez-vo
 us sur http://www.breizhbook.com/events/festival-l-arbre-qui-marche
DTSTART;TZID=Europe/Paris:20130816T000000
DTEND;TZID=Europe/Paris:20130818T235900
CATEGORIES:festival
LOCATION:Botmeur
WEBSITE:
URL:
CONTACT:
ORGANIZER;CN="L'asso l'Arbre Qui Marche":http://www.breizhbook.com/pro
 file/LassolArbreQuiMarche
ATTACH;FMTTYPE="image/jpeg":
ATTENDEE;ROLE=REQ-PARTICIPANT;PARTSTAT=ACCEPTED;RSVP=TRUE;CN="L'asso l
 'Arbre Qui Marche":http://www.breizhbook.com/profile/LassolArbreQuiMar
 che
END:VEVENT
END:VCALENDAR
