BEGIN:VCALENDAR
PRODID:NingEventWidget-v1
VERSION:2.0
METHOD:PUBLISH
BEGIN:VTIMEZONE
TZID:Europe/Paris
X-LIC-LOCATION:Europe/Paris
BEGIN:DAYLIGHT
TZOFFSETFROM:+0100
TZOFFSETTO:+0200
TZNAME:CEST
DTSTART:19700329T020000
RRULE:FREQ=YEARLY;BYMONTH=3;BYDAY=-1SU
END:DAYLIGHT
BEGIN:STANDARD
TZOFFSETFROM:+0200
TZOFFSETTO:+0100
TZNAME:CET
DTSTART:19701025T030000
RRULE:FREQ=YEARLY;BYMONTH=10;BYDAY=-1SU
END:STANDARD
END:VTIMEZONE
BEGIN:VEVENT
UID:6339722:Event:82837
DTSTAMP:20260423T181459Z
SUMMARY:FESTIVAL ILE AUX ZICOSS
DESCRIPTION:TROISIEME EDITION DU FESTIVAL â€™ILE AUX ZICOSS\nÂ \nDe la
  musique Ã  Bains sur Oust, pourquoi pasÂ ? Un festival de musique, on
  peut y rÃ©flÃ©chirÂ ? VoilÃ  comment, en deux ou trois questionnement
 s se monte une soirÃ©e concert, Ã  Bains sur Oust. Effectivement, il y
  a maintenant trois ans, les membres de la Festâ€™Ile aux Pies, avaien
 t pour volontÃ© de mettre sur pied une animation printaniÃ¨re, en comp
 lÃ©ment de la fÃªte organisÃ©e sur le site de lâ€™Ile aux Pies, le der
 nier week end de Juillet. Tout naturellement, lâ€™idÃ©e du concert a Ã
 ©tÃ© retenue et le samedi 14 Avril 2012, Ã  la salle polyvalente de Ba
 ins, se dÃ©roulera la troisiÃ¨me Ã©dition du Festival Ile aux Zicoss. 
 Lâ€™ouverture des portes est prÃ©vue Ã  19h, avec 4 groupes de diverse
 s tendances musicales, se succÃ©dant sur scÃ¨ne. Cette Ã©dition sâ€™an
 nonce rÃ©solument variÃ©e dans sa programmation, donnant la part belle
  Ã  la dÃ©couverteÂ !\nDe nombreuses dÃ©couvertes seront proposÃ©es su
 r le Festival Ile aux Zicoss 2012. Une trentaine de bÃ©nÃ©voles, membr
 es des sections sportives football et basket, des Cadets, sont mobilis
 Ã©s, pour que lâ€™Ã©vÃ©nement se dÃ©roule de la meilleure maniÃ¨re. Ai
 nsi, lâ€™essai ne demande quâ€™Ã  Ãªtre confirmÃ©, puisque quâ€™aprÃ¨s
  avoir fait salle comble en 2011, les organisateurs espÃ¨rent renouvel
 er lâ€™expÃ©rienceÂ !\n\nPour en savoir plus, rendez-vous sur http://w
 ww.breizhbook.com/events/festival-ile-aux-zicoss
DTSTART;TZID=Europe/Paris:20120414T183000
DTEND;TZID=Europe/Paris:20120415T010000
CATEGORIES:festival, de, musique
LOCATION:Salle polyvalente
WEBSITE:http://www.facebook.com/pages/Ile-aux-Zicoss/
URL:http://www.facebook.com/pages/Ile-aux-Zicoss/
CONTACT:
ORGANIZER:FEST'ILE AUX PIES
ATTACH;FMTTYPE="image/jpeg":http://storage.ning.com/topology/rest/1.0/
 file/get/3198296654?profile=original
ATTENDEE;ROLE=REQ-PARTICIPANT;PARTSTAT=ACCEPTED;RSVP=TRUE;CN="Guillaum
 e Brohan":http://www.breizhbook.com/profile/GuillaumeBrohan
END:VEVENT
END:VCALENDAR
