BEGIN:VCALENDAR
PRODID:NingEventWidget-v1
VERSION:2.0
METHOD:PUBLISH
BEGIN:VTIMEZONE
TZID:Europe/Paris
X-LIC-LOCATION:Europe/Paris
BEGIN:DAYLIGHT
TZOFFSETFROM:+0100
TZOFFSETTO:+0200
TZNAME:CEST
DTSTART:19700329T020000
RRULE:FREQ=YEARLY;BYMONTH=3;BYDAY=-1SU
END:DAYLIGHT
BEGIN:STANDARD
TZOFFSETFROM:+0200
TZOFFSETTO:+0100
TZNAME:CET
DTSTART:19701025T030000
RRULE:FREQ=YEARLY;BYMONTH=10;BYDAY=-1SU
END:STANDARD
END:VTIMEZONE
BEGIN:VEVENT
UID:6339722:Event:202974
DTSTAMP:20260423T181707Z
SUMMARY:Festival FINIST'AIRE DE JEUX
DESCRIPTION:Des jeux, des joueurs, des auteurs, des illustrateurs, des
  maisons d'édition, des expos, le Grand Prix des z'Illus ...\nIl y au
 ra de quoi faire !!!\n Un espace \"petite restauration\" vous attend s
 ur place (boissons, sandwichs, crêpes, kouigns, lichouseries ...)Tout
 es les infos sont sur le site du festival !\n\nPour en savoir plus, re
 ndez-vous sur http://www.breizhbook.com/events/festival-finist-aire-de
 -jeux
DTSTART;TZID=Europe/Paris:20130727T100000
DTEND;TZID=Europe/Paris:20130728T010000
CATEGORIES:festival, de, jeux, société
LOCATION:Espace Salvador Allende
WEBSITE:http://finistairedejeux.wix.com/festival#
URL:http://finistairedejeux.wix.com/festival#
CONTACT:02.98.82.65.32
ORGANIZER:Association Finist'Aire de Jeux
ATTACH;FMTTYPE="image/jpeg":http://storage.ning.com/topology/rest/1.0/
 file/get/3198358262?profile=original
ATTENDEE;ROLE=REQ-PARTICIPANT;PARTSTAT=ACCEPTED;RSVP=TRUE;CN="Yann D. 
 La Boîte Des Jeux":http://www.breizhbook.com/profile/YannDroumaguetLa
 BoiteDesJeux
END:VEVENT
END:VCALENDAR
