BEGIN:VCALENDAR
PRODID:NingEventWidget-v1
VERSION:2.0
METHOD:PUBLISH
BEGIN:VTIMEZONE
TZID:Europe/Paris
X-LIC-LOCATION:Europe/Paris
BEGIN:DAYLIGHT
TZOFFSETFROM:+0100
TZOFFSETTO:+0200
TZNAME:CEST
DTSTART:19700329T020000
RRULE:FREQ=YEARLY;BYMONTH=3;BYDAY=-1SU
END:DAYLIGHT
BEGIN:STANDARD
TZOFFSETFROM:+0200
TZOFFSETTO:+0100
TZNAME:CET
DTSTART:19701025T030000
RRULE:FREQ=YEARLY;BYMONTH=10;BYDAY=-1SU
END:STANDARD
END:VTIMEZONE
BEGIN:VEVENT
UID:6339722:Event:127304
DTSTAMP:20260423T181324Z
SUMMARY:Festival Celtirock 2012
DESCRIPTION:\n\nPour en savoir plus, rendez-vous sur http://www.breizh
 book.com/events/festival-celtirock-2012
DTSTART;TZID=Europe/Paris:20120721T190000
DTEND;TZID=Europe/Paris:20120721T210000
CATEGORIES:festival
LOCATION:Terrain des Sports
WEBSITE:
URL:
CONTACT:
ORGANIZER:
ATTACH;FMTTYPE="image/jpeg":http://storage.ning.com/topology/rest/1.0/
 file/get/3198320764?profile=original
ATTENDEE;ROLE=REQ-PARTICIPANT;PARTSTAT=ACCEPTED;RSVP=TRUE;CN="Sev Laro
 che":http://www.breizhbook.com/profile/Laroche
END:VEVENT
END:VCALENDAR
